BEGIN:VCALENDAR
VERSION:2.0
PRODID:-//The Outpost BBI - ECPv6.11.2.1//NONSGML v1.0//EN
CALSCALE:GREGORIAN
METHOD:PUBLISH
X-ORIGINAL-URL:https://theoutpostbbi.com
X-WR-CALDESC:Events for The Outpost BBI
REFRESH-INTERVAL;VALUE=DURATION:PT1H
X-Robots-Tag:noindex
X-PUBLISHED-TTL:PT1H
BEGIN:VTIMEZONE
TZID:America/New_York
BEGIN:DAYLIGHT
TZOFFSETFROM:-0500
TZOFFSETTO:-0400
TZNAME:EDT
DTSTART:20250309T070000
END:DAYLIGHT
BEGIN:STANDARD
TZOFFSETFROM:-0400
TZOFFSETTO:-0500
TZNAME:EST
DTSTART:20251102T060000
END:STANDARD
END:VTIMEZONE
BEGIN:VTIMEZONE
TZID:UTC
BEGIN:STANDARD
TZOFFSETFROM:+0000
TZOFFSETTO:+0000
TZNAME:UTC
DTSTART:20250101T000000
END:STANDARD
END:VTIMEZONE
BEGIN:VEVENT
DTSTART;TZID=America/New_York:20250910T153000
DTEND;TZID=America/New_York:20250910T173000
DTSTAMP:20260425T114206
CREATED:20250602T160746Z
LAST-MODIFIED:20250602T160746Z
UID:9175-1757518200-1757525400@theoutpostbbi.com
SUMMARY:Happy Hour
DESCRIPTION:
URL:https://theoutpostbbi.com/event/happy-hour-102/
ATTACH;FMTTYPE=image/jpeg:https://theoutpostbbi.com/wp-content/uploads/2025/06/BURGER-5.jpg
END:VEVENT
BEGIN:VEVENT
DTSTART;TZID=America/New_York:20250909T153000
DTEND;TZID=America/New_York:20250909T173000
DTSTAMP:20260425T114206
CREATED:20250602T160745Z
LAST-MODIFIED:20250602T160745Z
UID:9174-1757431800-1757439000@theoutpostbbi.com
SUMMARY:Happy Hour
DESCRIPTION:
URL:https://theoutpostbbi.com/event/happy-hour-101/
ATTACH;FMTTYPE=image/jpeg:https://theoutpostbbi.com/wp-content/uploads/2025/06/BURGER-5.jpg
END:VEVENT
BEGIN:VEVENT
DTSTART;TZID=America/New_York:20250908T153000
DTEND;TZID=America/New_York:20250908T173000
DTSTAMP:20260425T114206
CREATED:20250602T160744Z
LAST-MODIFIED:20250602T160744Z
UID:9173-1757345400-1757352600@theoutpostbbi.com
SUMMARY:Happy Hour
DESCRIPTION:
URL:https://theoutpostbbi.com/event/happy-hour-100/
ATTACH;FMTTYPE=image/jpeg:https://theoutpostbbi.com/wp-content/uploads/2025/06/BURGER-5.jpg
END:VEVENT
BEGIN:VEVENT
DTSTART;TZID=America/New_York:20250907T153000
DTEND;TZID=America/New_York:20250907T173000
DTSTAMP:20260425T114206
CREATED:20250602T160742Z
LAST-MODIFIED:20250602T160742Z
UID:9172-1757259000-1757266200@theoutpostbbi.com
SUMMARY:Happy Hour
DESCRIPTION:
URL:https://theoutpostbbi.com/event/happy-hour-99/
ATTACH;FMTTYPE=image/jpeg:https://theoutpostbbi.com/wp-content/uploads/2025/06/BURGER-5.jpg
END:VEVENT
BEGIN:VEVENT
DTSTART;TZID=America/New_York:20250906T153000
DTEND;TZID=America/New_York:20250906T173000
DTSTAMP:20260425T114206
CREATED:20250602T160732Z
LAST-MODIFIED:20250602T160732Z
UID:9171-1757172600-1757179800@theoutpostbbi.com
SUMMARY:Happy Hour
DESCRIPTION:
URL:https://theoutpostbbi.com/event/happy-hour-98/
ATTACH;FMTTYPE=image/jpeg:https://theoutpostbbi.com/wp-content/uploads/2025/06/BURGER-5.jpg
END:VEVENT
BEGIN:VEVENT
DTSTART;TZID=America/New_York:20250905T153000
DTEND;TZID=America/New_York:20250905T173000
DTSTAMP:20260425T114206
CREATED:20250602T160731Z
LAST-MODIFIED:20250602T160731Z
UID:9170-1757086200-1757093400@theoutpostbbi.com
SUMMARY:Happy Hour
DESCRIPTION:
URL:https://theoutpostbbi.com/event/happy-hour-97/
ATTACH;FMTTYPE=image/jpeg:https://theoutpostbbi.com/wp-content/uploads/2025/06/BURGER-5.jpg
END:VEVENT
BEGIN:VEVENT
DTSTART;TZID=America/New_York:20250904T153000
DTEND;TZID=America/New_York:20250904T173000
DTSTAMP:20260425T114206
CREATED:20250602T160730Z
LAST-MODIFIED:20250602T160730Z
UID:9169-1756999800-1757007000@theoutpostbbi.com
SUMMARY:Happy Hour
DESCRIPTION:
URL:https://theoutpostbbi.com/event/happy-hour-96/
ATTACH;FMTTYPE=image/jpeg:https://theoutpostbbi.com/wp-content/uploads/2025/06/BURGER-5.jpg
END:VEVENT
BEGIN:VEVENT
DTSTART;TZID=America/New_York:20250903T153000
DTEND;TZID=America/New_York:20250903T173000
DTSTAMP:20260425T114206
CREATED:20250602T160729Z
LAST-MODIFIED:20250602T160729Z
UID:9168-1756913400-1756920600@theoutpostbbi.com
SUMMARY:Happy Hour
DESCRIPTION:
URL:https://theoutpostbbi.com/event/happy-hour-95/
ATTACH;FMTTYPE=image/jpeg:https://theoutpostbbi.com/wp-content/uploads/2025/06/BURGER-5.jpg
END:VEVENT
BEGIN:VEVENT
DTSTART;TZID=America/New_York:20250902T153000
DTEND;TZID=America/New_York:20250902T173000
DTSTAMP:20260425T114206
CREATED:20250602T160727Z
LAST-MODIFIED:20250602T160727Z
UID:9167-1756827000-1756834200@theoutpostbbi.com
SUMMARY:Happy Hour
DESCRIPTION:
URL:https://theoutpostbbi.com/event/happy-hour-94/
ATTACH;FMTTYPE=image/jpeg:https://theoutpostbbi.com/wp-content/uploads/2025/06/BURGER-5.jpg
END:VEVENT
BEGIN:VEVENT
DTSTART;TZID=America/New_York:20250901T153000
DTEND;TZID=America/New_York:20250901T173000
DTSTAMP:20260425T114206
CREATED:20250602T160717Z
LAST-MODIFIED:20250602T160717Z
UID:9166-1756740600-1756747800@theoutpostbbi.com
SUMMARY:Happy Hour
DESCRIPTION:
URL:https://theoutpostbbi.com/event/happy-hour-93/
ATTACH;FMTTYPE=image/jpeg:https://theoutpostbbi.com/wp-content/uploads/2025/06/BURGER-5.jpg
END:VEVENT
BEGIN:VEVENT
DTSTART;TZID=America/New_York:20250831T153000
DTEND;TZID=America/New_York:20250831T173000
DTSTAMP:20260425T114206
CREATED:20250602T160716Z
LAST-MODIFIED:20250602T160716Z
UID:9165-1756654200-1756661400@theoutpostbbi.com
SUMMARY:Happy Hour
DESCRIPTION:
URL:https://theoutpostbbi.com/event/happy-hour-92/
ATTACH;FMTTYPE=image/jpeg:https://theoutpostbbi.com/wp-content/uploads/2025/06/BURGER-5.jpg
END:VEVENT
BEGIN:VEVENT
DTSTART;TZID=UTC:20250830T180000
DTEND;TZID=UTC:20250830T220000
DTSTAMP:20260425T114206
CREATED:20250602T183553Z
LAST-MODIFIED:20250602T183553Z
UID:9251-1756576800-1756591200@theoutpostbbi.com
SUMMARY:Labor Day Live Jazz & Party
DESCRIPTION:Live Jazz Music all are sure to Enjoy!
URL:https://theoutpostbbi.com/event/labor-day-live-jazz-party/
END:VEVENT
BEGIN:VEVENT
DTSTART;TZID=America/New_York:20250830T153000
DTEND;TZID=America/New_York:20250830T173000
DTSTAMP:20260425T114206
CREATED:20250602T160715Z
LAST-MODIFIED:20250602T160715Z
UID:9164-1756567800-1756575000@theoutpostbbi.com
SUMMARY:Happy Hour
DESCRIPTION:
URL:https://theoutpostbbi.com/event/happy-hour-91/
ATTACH;FMTTYPE=image/jpeg:https://theoutpostbbi.com/wp-content/uploads/2025/06/BURGER-5.jpg
END:VEVENT
BEGIN:VEVENT
DTSTART;TZID=America/New_York:20250829T153000
DTEND;TZID=America/New_York:20250829T173000
DTSTAMP:20260425T114206
CREATED:20250602T160714Z
LAST-MODIFIED:20250602T160714Z
UID:9163-1756481400-1756488600@theoutpostbbi.com
SUMMARY:Happy Hour
DESCRIPTION:
URL:https://theoutpostbbi.com/event/happy-hour-90/
ATTACH;FMTTYPE=image/jpeg:https://theoutpostbbi.com/wp-content/uploads/2025/06/BURGER-5.jpg
END:VEVENT
BEGIN:VEVENT
DTSTART;TZID=America/New_York:20250828T153000
DTEND;TZID=America/New_York:20250828T173000
DTSTAMP:20260425T114206
CREATED:20250602T160712Z
LAST-MODIFIED:20250602T160712Z
UID:9162-1756395000-1756402200@theoutpostbbi.com
SUMMARY:Happy Hour
DESCRIPTION:
URL:https://theoutpostbbi.com/event/happy-hour-89/
ATTACH;FMTTYPE=image/jpeg:https://theoutpostbbi.com/wp-content/uploads/2025/06/BURGER-5.jpg
END:VEVENT
BEGIN:VEVENT
DTSTART;TZID=America/New_York:20250827T153000
DTEND;TZID=America/New_York:20250827T173000
DTSTAMP:20260425T114206
CREATED:20250602T160703Z
LAST-MODIFIED:20250602T160703Z
UID:9161-1756308600-1756315800@theoutpostbbi.com
SUMMARY:Happy Hour
DESCRIPTION:
URL:https://theoutpostbbi.com/event/happy-hour-88/
ATTACH;FMTTYPE=image/jpeg:https://theoutpostbbi.com/wp-content/uploads/2025/06/BURGER-5.jpg
END:VEVENT
BEGIN:VEVENT
DTSTART;TZID=America/New_York:20250826T153000
DTEND;TZID=America/New_York:20250826T173000
DTSTAMP:20260425T114206
CREATED:20250602T160701Z
LAST-MODIFIED:20250602T160701Z
UID:9160-1756222200-1756229400@theoutpostbbi.com
SUMMARY:Happy Hour
DESCRIPTION:
URL:https://theoutpostbbi.com/event/happy-hour-87/
ATTACH;FMTTYPE=image/jpeg:https://theoutpostbbi.com/wp-content/uploads/2025/06/BURGER-5.jpg
END:VEVENT
BEGIN:VEVENT
DTSTART;TZID=America/New_York:20250825T153000
DTEND;TZID=America/New_York:20250825T173000
DTSTAMP:20260425T114206
CREATED:20250602T160700Z
LAST-MODIFIED:20250602T160700Z
UID:9159-1756135800-1756143000@theoutpostbbi.com
SUMMARY:Happy Hour
DESCRIPTION:
URL:https://theoutpostbbi.com/event/happy-hour-86/
ATTACH;FMTTYPE=image/jpeg:https://theoutpostbbi.com/wp-content/uploads/2025/06/BURGER-5.jpg
END:VEVENT
BEGIN:VEVENT
DTSTART;TZID=America/New_York:20250824T153000
DTEND;TZID=America/New_York:20250824T173000
DTSTAMP:20260425T114206
CREATED:20250602T160659Z
LAST-MODIFIED:20250602T160659Z
UID:9158-1756049400-1756056600@theoutpostbbi.com
SUMMARY:Happy Hour
DESCRIPTION:
URL:https://theoutpostbbi.com/event/happy-hour-85/
ATTACH;FMTTYPE=image/jpeg:https://theoutpostbbi.com/wp-content/uploads/2025/06/BURGER-5.jpg
END:VEVENT
BEGIN:VEVENT
DTSTART;TZID=America/New_York:20250823T153000
DTEND;TZID=America/New_York:20250823T173000
DTSTAMP:20260425T114206
CREATED:20250602T160657Z
LAST-MODIFIED:20250602T160657Z
UID:9157-1755963000-1755970200@theoutpostbbi.com
SUMMARY:Happy Hour
DESCRIPTION:
URL:https://theoutpostbbi.com/event/happy-hour-84/
ATTACH;FMTTYPE=image/jpeg:https://theoutpostbbi.com/wp-content/uploads/2025/06/BURGER-5.jpg
END:VEVENT
BEGIN:VEVENT
DTSTART;TZID=America/New_York:20250822T153000
DTEND;TZID=America/New_York:20250822T173000
DTSTAMP:20260425T114206
CREATED:20250602T160649Z
LAST-MODIFIED:20250602T160649Z
UID:9156-1755876600-1755883800@theoutpostbbi.com
SUMMARY:Happy Hour
DESCRIPTION:
URL:https://theoutpostbbi.com/event/happy-hour-83/
ATTACH;FMTTYPE=image/jpeg:https://theoutpostbbi.com/wp-content/uploads/2025/06/BURGER-5.jpg
END:VEVENT
BEGIN:VEVENT
DTSTART;TZID=America/New_York:20250821T153000
DTEND;TZID=America/New_York:20250821T173000
DTSTAMP:20260425T114206
CREATED:20250602T160648Z
LAST-MODIFIED:20250602T160648Z
UID:9155-1755790200-1755797400@theoutpostbbi.com
SUMMARY:Happy Hour
DESCRIPTION:
URL:https://theoutpostbbi.com/event/happy-hour-82/
ATTACH;FMTTYPE=image/jpeg:https://theoutpostbbi.com/wp-content/uploads/2025/06/BURGER-5.jpg
END:VEVENT
BEGIN:VEVENT
DTSTART;TZID=America/New_York:20250820T153000
DTEND;TZID=America/New_York:20250820T173000
DTSTAMP:20260425T114206
CREATED:20250602T160646Z
LAST-MODIFIED:20250602T160646Z
UID:9154-1755703800-1755711000@theoutpostbbi.com
SUMMARY:Happy Hour
DESCRIPTION:
URL:https://theoutpostbbi.com/event/happy-hour-81/
ATTACH;FMTTYPE=image/jpeg:https://theoutpostbbi.com/wp-content/uploads/2025/06/BURGER-5.jpg
END:VEVENT
BEGIN:VEVENT
DTSTART;TZID=America/New_York:20250819T153000
DTEND;TZID=America/New_York:20250819T173000
DTSTAMP:20260425T114206
CREATED:20250602T160645Z
LAST-MODIFIED:20250602T160645Z
UID:9153-1755617400-1755624600@theoutpostbbi.com
SUMMARY:Happy Hour
DESCRIPTION:
URL:https://theoutpostbbi.com/event/happy-hour-80/
ATTACH;FMTTYPE=image/jpeg:https://theoutpostbbi.com/wp-content/uploads/2025/06/BURGER-5.jpg
END:VEVENT
BEGIN:VEVENT
DTSTART;TZID=America/New_York:20250818T153000
DTEND;TZID=America/New_York:20250818T173000
DTSTAMP:20260425T114206
CREATED:20250602T160644Z
LAST-MODIFIED:20250602T160644Z
UID:9152-1755531000-1755538200@theoutpostbbi.com
SUMMARY:Happy Hour
DESCRIPTION:
URL:https://theoutpostbbi.com/event/happy-hour-79/
ATTACH;FMTTYPE=image/jpeg:https://theoutpostbbi.com/wp-content/uploads/2025/06/BURGER-5.jpg
END:VEVENT
BEGIN:VEVENT
DTSTART;TZID=America/New_York:20250817T153000
DTEND;TZID=America/New_York:20250817T173000
DTSTAMP:20260425T114206
CREATED:20250602T160632Z
LAST-MODIFIED:20250602T160632Z
UID:9151-1755444600-1755451800@theoutpostbbi.com
SUMMARY:Happy Hour
DESCRIPTION:
URL:https://theoutpostbbi.com/event/happy-hour-78/
ATTACH;FMTTYPE=image/jpeg:https://theoutpostbbi.com/wp-content/uploads/2025/06/BURGER-5.jpg
END:VEVENT
BEGIN:VEVENT
DTSTART;TZID=America/New_York:20250816T153000
DTEND;TZID=America/New_York:20250816T173000
DTSTAMP:20260425T114206
CREATED:20250602T160631Z
LAST-MODIFIED:20250602T160631Z
UID:9150-1755358200-1755365400@theoutpostbbi.com
SUMMARY:Happy Hour
DESCRIPTION:
URL:https://theoutpostbbi.com/event/happy-hour-77/
ATTACH;FMTTYPE=image/jpeg:https://theoutpostbbi.com/wp-content/uploads/2025/06/BURGER-5.jpg
END:VEVENT
BEGIN:VEVENT
DTSTART;TZID=America/New_York:20250815T153000
DTEND;TZID=America/New_York:20250815T173000
DTSTAMP:20260425T114206
CREATED:20250602T160630Z
LAST-MODIFIED:20250602T160630Z
UID:9149-1755271800-1755279000@theoutpostbbi.com
SUMMARY:Happy Hour
DESCRIPTION:
URL:https://theoutpostbbi.com/event/happy-hour-76/
ATTACH;FMTTYPE=image/jpeg:https://theoutpostbbi.com/wp-content/uploads/2025/06/BURGER-5.jpg
END:VEVENT
BEGIN:VEVENT
DTSTART;TZID=America/New_York:20250814T153000
DTEND;TZID=America/New_York:20250814T173000
DTSTAMP:20260425T114206
CREATED:20250602T160629Z
LAST-MODIFIED:20250602T160629Z
UID:9148-1755185400-1755192600@theoutpostbbi.com
SUMMARY:Happy Hour
DESCRIPTION:
URL:https://theoutpostbbi.com/event/happy-hour-75/
ATTACH;FMTTYPE=image/jpeg:https://theoutpostbbi.com/wp-content/uploads/2025/06/BURGER-5.jpg
END:VEVENT
BEGIN:VEVENT
DTSTART;VALUE=DATE:20250814
DTEND;VALUE=DATE:20250815
DTSTAMP:20260425T114206
CREATED:20250602T142515Z
LAST-MODIFIED:20250602T153633Z
UID:8757-1755129600-1755215999@theoutpostbbi.com
SUMMARY:$12 Burgers
DESCRIPTION:
URL:https://theoutpostbbi.com/event/12-burgers-11/
ATTACH;FMTTYPE=image/jpeg:https://theoutpostbbi.com/wp-content/uploads/2025/06/BURGER-2.jpg
END:VEVENT
END:VCALENDAR