BEGIN:VCALENDAR
VERSION:2.0
PRODID:-//The Outpost BBI - ECPv6.11.2.1//NONSGML v1.0//EN
CALSCALE:GREGORIAN
METHOD:PUBLISH
X-WR-CALNAME:The Outpost BBI
X-ORIGINAL-URL:https://theoutpostbbi.com
X-WR-CALDESC:Events for The Outpost BBI
REFRESH-INTERVAL;VALUE=DURATION:PT1H
X-Robots-Tag:noindex
X-PUBLISHED-TTL:PT1H
BEGIN:VTIMEZONE
TZID:America/New_York
BEGIN:DAYLIGHT
TZOFFSETFROM:-0500
TZOFFSETTO:-0400
TZNAME:EDT
DTSTART:20250309T070000
END:DAYLIGHT
BEGIN:STANDARD
TZOFFSETFROM:-0400
TZOFFSETTO:-0500
TZNAME:EST
DTSTART:20251102T060000
END:STANDARD
END:VTIMEZONE
BEGIN:VEVENT
DTSTART;TZID=America/New_York:20251004T153000
DTEND;TZID=America/New_York:20251004T173000
DTSTAMP:20260423T023615
CREATED:20250602T160900Z
LAST-MODIFIED:20250602T160900Z
UID:9199-1759591800-1759599000@theoutpostbbi.com
SUMMARY:Happy Hour
DESCRIPTION:
URL:https://theoutpostbbi.com/event/happy-hour-126/
ATTACH;FMTTYPE=image/jpeg:https://theoutpostbbi.com/wp-content/uploads/2025/06/BURGER-5.jpg
END:VEVENT
BEGIN:VEVENT
DTSTART;TZID=America/New_York:20251003T153000
DTEND;TZID=America/New_York:20251003T173000
DTSTAMP:20260423T023615
CREATED:20250602T160858Z
LAST-MODIFIED:20250602T160858Z
UID:9198-1759505400-1759512600@theoutpostbbi.com
SUMMARY:Happy Hour
DESCRIPTION:
URL:https://theoutpostbbi.com/event/happy-hour-125/
ATTACH;FMTTYPE=image/jpeg:https://theoutpostbbi.com/wp-content/uploads/2025/06/BURGER-5.jpg
END:VEVENT
BEGIN:VEVENT
DTSTART;TZID=America/New_York:20251002T153000
DTEND;TZID=America/New_York:20251002T173000
DTSTAMP:20260423T023615
CREATED:20250602T160857Z
LAST-MODIFIED:20250602T160857Z
UID:9197-1759419000-1759426200@theoutpostbbi.com
SUMMARY:Happy Hour
DESCRIPTION:
URL:https://theoutpostbbi.com/event/happy-hour-124/
ATTACH;FMTTYPE=image/jpeg:https://theoutpostbbi.com/wp-content/uploads/2025/06/BURGER-5.jpg
END:VEVENT
BEGIN:VEVENT
DTSTART;TZID=America/New_York:20251001T153000
DTEND;TZID=America/New_York:20251001T173000
DTSTAMP:20260423T023615
CREATED:20250602T160847Z
LAST-MODIFIED:20250602T160847Z
UID:9196-1759332600-1759339800@theoutpostbbi.com
SUMMARY:Happy Hour
DESCRIPTION:
URL:https://theoutpostbbi.com/event/happy-hour-123/
ATTACH;FMTTYPE=image/jpeg:https://theoutpostbbi.com/wp-content/uploads/2025/06/BURGER-5.jpg
END:VEVENT
BEGIN:VEVENT
DTSTART;TZID=America/New_York:20250930T153000
DTEND;TZID=America/New_York:20250930T173000
DTSTAMP:20260423T023615
CREATED:20250602T160846Z
LAST-MODIFIED:20250602T160846Z
UID:9195-1759246200-1759253400@theoutpostbbi.com
SUMMARY:Happy Hour
DESCRIPTION:
URL:https://theoutpostbbi.com/event/happy-hour-122/
ATTACH;FMTTYPE=image/jpeg:https://theoutpostbbi.com/wp-content/uploads/2025/06/BURGER-5.jpg
END:VEVENT
BEGIN:VEVENT
DTSTART;TZID=America/New_York:20250929T153000
DTEND;TZID=America/New_York:20250929T173000
DTSTAMP:20260423T023615
CREATED:20250602T160845Z
LAST-MODIFIED:20250602T160845Z
UID:9194-1759159800-1759167000@theoutpostbbi.com
SUMMARY:Happy Hour
DESCRIPTION:
URL:https://theoutpostbbi.com/event/happy-hour-121/
ATTACH;FMTTYPE=image/jpeg:https://theoutpostbbi.com/wp-content/uploads/2025/06/BURGER-5.jpg
END:VEVENT
BEGIN:VEVENT
DTSTART;TZID=America/New_York:20250928T153000
DTEND;TZID=America/New_York:20250928T173000
DTSTAMP:20260423T023615
CREATED:20250602T160843Z
LAST-MODIFIED:20250602T160843Z
UID:9193-1759073400-1759080600@theoutpostbbi.com
SUMMARY:Happy Hour
DESCRIPTION:
URL:https://theoutpostbbi.com/event/happy-hour-120/
ATTACH;FMTTYPE=image/jpeg:https://theoutpostbbi.com/wp-content/uploads/2025/06/BURGER-5.jpg
END:VEVENT
BEGIN:VEVENT
DTSTART;TZID=America/New_York:20250927T153000
DTEND;TZID=America/New_York:20250927T173000
DTSTAMP:20260423T023615
CREATED:20250602T160842Z
LAST-MODIFIED:20250602T160842Z
UID:9192-1758987000-1758994200@theoutpostbbi.com
SUMMARY:Happy Hour
DESCRIPTION:
URL:https://theoutpostbbi.com/event/happy-hour-119/
ATTACH;FMTTYPE=image/jpeg:https://theoutpostbbi.com/wp-content/uploads/2025/06/BURGER-5.jpg
END:VEVENT
BEGIN:VEVENT
DTSTART;TZID=America/New_York:20250926T153000
DTEND;TZID=America/New_York:20250926T173000
DTSTAMP:20260423T023615
CREATED:20250602T160833Z
LAST-MODIFIED:20250602T160833Z
UID:9191-1758900600-1758907800@theoutpostbbi.com
SUMMARY:Happy Hour
DESCRIPTION:
URL:https://theoutpostbbi.com/event/happy-hour-118/
ATTACH;FMTTYPE=image/jpeg:https://theoutpostbbi.com/wp-content/uploads/2025/06/BURGER-5.jpg
END:VEVENT
BEGIN:VEVENT
DTSTART;TZID=America/New_York:20250925T153000
DTEND;TZID=America/New_York:20250925T173000
DTSTAMP:20260423T023615
CREATED:20250602T160831Z
LAST-MODIFIED:20250602T160831Z
UID:9190-1758814200-1758821400@theoutpostbbi.com
SUMMARY:Happy Hour
DESCRIPTION:
URL:https://theoutpostbbi.com/event/happy-hour-117/
ATTACH;FMTTYPE=image/jpeg:https://theoutpostbbi.com/wp-content/uploads/2025/06/BURGER-5.jpg
END:VEVENT
BEGIN:VEVENT
DTSTART;TZID=America/New_York:20250924T153000
DTEND;TZID=America/New_York:20250924T173000
DTSTAMP:20260423T023615
CREATED:20250602T160830Z
LAST-MODIFIED:20250602T160830Z
UID:9189-1758727800-1758735000@theoutpostbbi.com
SUMMARY:Happy Hour
DESCRIPTION:
URL:https://theoutpostbbi.com/event/happy-hour-116/
ATTACH;FMTTYPE=image/jpeg:https://theoutpostbbi.com/wp-content/uploads/2025/06/BURGER-5.jpg
END:VEVENT
BEGIN:VEVENT
DTSTART;TZID=America/New_York:20250923T153000
DTEND;TZID=America/New_York:20250923T173000
DTSTAMP:20260423T023615
CREATED:20250602T160829Z
LAST-MODIFIED:20250602T160829Z
UID:9188-1758641400-1758648600@theoutpostbbi.com
SUMMARY:Happy Hour
DESCRIPTION:
URL:https://theoutpostbbi.com/event/happy-hour-115/
ATTACH;FMTTYPE=image/jpeg:https://theoutpostbbi.com/wp-content/uploads/2025/06/BURGER-5.jpg
END:VEVENT
BEGIN:VEVENT
DTSTART;TZID=America/New_York:20250922T153000
DTEND;TZID=America/New_York:20250922T173000
DTSTAMP:20260423T023615
CREATED:20250602T160827Z
LAST-MODIFIED:20250602T160827Z
UID:9187-1758555000-1758562200@theoutpostbbi.com
SUMMARY:Happy Hour
DESCRIPTION:
URL:https://theoutpostbbi.com/event/happy-hour-114/
ATTACH;FMTTYPE=image/jpeg:https://theoutpostbbi.com/wp-content/uploads/2025/06/BURGER-5.jpg
END:VEVENT
BEGIN:VEVENT
DTSTART;TZID=America/New_York:20250921T153000
DTEND;TZID=America/New_York:20250921T173000
DTSTAMP:20260423T023615
CREATED:20250602T160817Z
LAST-MODIFIED:20250602T160817Z
UID:9186-1758468600-1758475800@theoutpostbbi.com
SUMMARY:Happy Hour
DESCRIPTION:
URL:https://theoutpostbbi.com/event/happy-hour-113/
ATTACH;FMTTYPE=image/jpeg:https://theoutpostbbi.com/wp-content/uploads/2025/06/BURGER-5.jpg
END:VEVENT
BEGIN:VEVENT
DTSTART;TZID=America/New_York:20250920T153000
DTEND;TZID=America/New_York:20250920T173000
DTSTAMP:20260423T023615
CREATED:20250602T160816Z
LAST-MODIFIED:20250602T160816Z
UID:9185-1758382200-1758389400@theoutpostbbi.com
SUMMARY:Happy Hour
DESCRIPTION:
URL:https://theoutpostbbi.com/event/happy-hour-112/
ATTACH;FMTTYPE=image/jpeg:https://theoutpostbbi.com/wp-content/uploads/2025/06/BURGER-5.jpg
END:VEVENT
BEGIN:VEVENT
DTSTART;TZID=America/New_York:20250919T153000
DTEND;TZID=America/New_York:20250919T173000
DTSTAMP:20260423T023615
CREATED:20250602T160815Z
LAST-MODIFIED:20250602T160815Z
UID:9184-1758295800-1758303000@theoutpostbbi.com
SUMMARY:Happy Hour
DESCRIPTION:
URL:https://theoutpostbbi.com/event/happy-hour-111/
ATTACH;FMTTYPE=image/jpeg:https://theoutpostbbi.com/wp-content/uploads/2025/06/BURGER-5.jpg
END:VEVENT
BEGIN:VEVENT
DTSTART;TZID=America/New_York:20250918T153000
DTEND;TZID=America/New_York:20250918T173000
DTSTAMP:20260423T023615
CREATED:20250602T160813Z
LAST-MODIFIED:20250602T160813Z
UID:9183-1758209400-1758216600@theoutpostbbi.com
SUMMARY:Happy Hour
DESCRIPTION:
URL:https://theoutpostbbi.com/event/happy-hour-110/
ATTACH;FMTTYPE=image/jpeg:https://theoutpostbbi.com/wp-content/uploads/2025/06/BURGER-5.jpg
END:VEVENT
BEGIN:VEVENT
DTSTART;TZID=America/New_York:20250917T153000
DTEND;TZID=America/New_York:20250917T173000
DTSTAMP:20260423T023615
CREATED:20250602T160812Z
LAST-MODIFIED:20250602T160812Z
UID:9182-1758123000-1758130200@theoutpostbbi.com
SUMMARY:Happy Hour
DESCRIPTION:
URL:https://theoutpostbbi.com/event/happy-hour-109/
ATTACH;FMTTYPE=image/jpeg:https://theoutpostbbi.com/wp-content/uploads/2025/06/BURGER-5.jpg
END:VEVENT
BEGIN:VEVENT
DTSTART;TZID=America/New_York:20250916T153000
DTEND;TZID=America/New_York:20250916T173000
DTSTAMP:20260423T023615
CREATED:20250602T160802Z
LAST-MODIFIED:20250602T160802Z
UID:9181-1758036600-1758043800@theoutpostbbi.com
SUMMARY:Happy Hour
DESCRIPTION:
URL:https://theoutpostbbi.com/event/happy-hour-108/
ATTACH;FMTTYPE=image/jpeg:https://theoutpostbbi.com/wp-content/uploads/2025/06/BURGER-5.jpg
END:VEVENT
BEGIN:VEVENT
DTSTART;TZID=America/New_York:20250915T153000
DTEND;TZID=America/New_York:20250915T173000
DTSTAMP:20260423T023615
CREATED:20250602T160801Z
LAST-MODIFIED:20250602T160801Z
UID:9180-1757950200-1757957400@theoutpostbbi.com
SUMMARY:Happy Hour
DESCRIPTION:
URL:https://theoutpostbbi.com/event/happy-hour-107/
ATTACH;FMTTYPE=image/jpeg:https://theoutpostbbi.com/wp-content/uploads/2025/06/BURGER-5.jpg
END:VEVENT
BEGIN:VEVENT
DTSTART;TZID=America/New_York:20250914T153000
DTEND;TZID=America/New_York:20250914T173000
DTSTAMP:20260423T023615
CREATED:20250602T160800Z
LAST-MODIFIED:20250602T160800Z
UID:9179-1757863800-1757871000@theoutpostbbi.com
SUMMARY:Happy Hour
DESCRIPTION:
URL:https://theoutpostbbi.com/event/happy-hour-106/
ATTACH;FMTTYPE=image/jpeg:https://theoutpostbbi.com/wp-content/uploads/2025/06/BURGER-5.jpg
END:VEVENT
BEGIN:VEVENT
DTSTART;TZID=America/New_York:20250913T153000
DTEND;TZID=America/New_York:20250913T173000
DTSTAMP:20260423T023615
CREATED:20250602T160758Z
LAST-MODIFIED:20250602T160758Z
UID:9178-1757777400-1757784600@theoutpostbbi.com
SUMMARY:Happy Hour
DESCRIPTION:
URL:https://theoutpostbbi.com/event/happy-hour-105/
ATTACH;FMTTYPE=image/jpeg:https://theoutpostbbi.com/wp-content/uploads/2025/06/BURGER-5.jpg
END:VEVENT
BEGIN:VEVENT
DTSTART;TZID=America/New_York:20250912T153000
DTEND;TZID=America/New_York:20250912T173000
DTSTAMP:20260423T023615
CREATED:20250602T160757Z
LAST-MODIFIED:20250602T160757Z
UID:9177-1757691000-1757698200@theoutpostbbi.com
SUMMARY:Happy Hour
DESCRIPTION:
URL:https://theoutpostbbi.com/event/happy-hour-104/
ATTACH;FMTTYPE=image/jpeg:https://theoutpostbbi.com/wp-content/uploads/2025/06/BURGER-5.jpg
END:VEVENT
BEGIN:VEVENT
DTSTART;TZID=America/New_York:20250911T153000
DTEND;TZID=America/New_York:20250911T173000
DTSTAMP:20260423T023615
CREATED:20250602T160747Z
LAST-MODIFIED:20250602T160747Z
UID:9176-1757604600-1757611800@theoutpostbbi.com
SUMMARY:Happy Hour
DESCRIPTION:
URL:https://theoutpostbbi.com/event/happy-hour-103/
ATTACH;FMTTYPE=image/jpeg:https://theoutpostbbi.com/wp-content/uploads/2025/06/BURGER-5.jpg
END:VEVENT
BEGIN:VEVENT
DTSTART;TZID=America/New_York:20250910T153000
DTEND;TZID=America/New_York:20250910T173000
DTSTAMP:20260423T023615
CREATED:20250602T160746Z
LAST-MODIFIED:20250602T160746Z
UID:9175-1757518200-1757525400@theoutpostbbi.com
SUMMARY:Happy Hour
DESCRIPTION:
URL:https://theoutpostbbi.com/event/happy-hour-102/
ATTACH;FMTTYPE=image/jpeg:https://theoutpostbbi.com/wp-content/uploads/2025/06/BURGER-5.jpg
END:VEVENT
BEGIN:VEVENT
DTSTART;TZID=America/New_York:20250909T153000
DTEND;TZID=America/New_York:20250909T173000
DTSTAMP:20260423T023615
CREATED:20250602T160745Z
LAST-MODIFIED:20250602T160745Z
UID:9174-1757431800-1757439000@theoutpostbbi.com
SUMMARY:Happy Hour
DESCRIPTION:
URL:https://theoutpostbbi.com/event/happy-hour-101/
ATTACH;FMTTYPE=image/jpeg:https://theoutpostbbi.com/wp-content/uploads/2025/06/BURGER-5.jpg
END:VEVENT
BEGIN:VEVENT
DTSTART;TZID=America/New_York:20250908T153000
DTEND;TZID=America/New_York:20250908T173000
DTSTAMP:20260423T023615
CREATED:20250602T160744Z
LAST-MODIFIED:20250602T160744Z
UID:9173-1757345400-1757352600@theoutpostbbi.com
SUMMARY:Happy Hour
DESCRIPTION:
URL:https://theoutpostbbi.com/event/happy-hour-100/
ATTACH;FMTTYPE=image/jpeg:https://theoutpostbbi.com/wp-content/uploads/2025/06/BURGER-5.jpg
END:VEVENT
BEGIN:VEVENT
DTSTART;TZID=America/New_York:20250907T153000
DTEND;TZID=America/New_York:20250907T173000
DTSTAMP:20260423T023615
CREATED:20250602T160742Z
LAST-MODIFIED:20250602T160742Z
UID:9172-1757259000-1757266200@theoutpostbbi.com
SUMMARY:Happy Hour
DESCRIPTION:
URL:https://theoutpostbbi.com/event/happy-hour-99/
ATTACH;FMTTYPE=image/jpeg:https://theoutpostbbi.com/wp-content/uploads/2025/06/BURGER-5.jpg
END:VEVENT
BEGIN:VEVENT
DTSTART;TZID=America/New_York:20250906T153000
DTEND;TZID=America/New_York:20250906T173000
DTSTAMP:20260423T023615
CREATED:20250602T160732Z
LAST-MODIFIED:20250602T160732Z
UID:9171-1757172600-1757179800@theoutpostbbi.com
SUMMARY:Happy Hour
DESCRIPTION:
URL:https://theoutpostbbi.com/event/happy-hour-98/
ATTACH;FMTTYPE=image/jpeg:https://theoutpostbbi.com/wp-content/uploads/2025/06/BURGER-5.jpg
END:VEVENT
BEGIN:VEVENT
DTSTART;TZID=America/New_York:20250905T153000
DTEND;TZID=America/New_York:20250905T173000
DTSTAMP:20260423T023615
CREATED:20250602T160731Z
LAST-MODIFIED:20250602T160731Z
UID:9170-1757086200-1757093400@theoutpostbbi.com
SUMMARY:Happy Hour
DESCRIPTION:
URL:https://theoutpostbbi.com/event/happy-hour-97/
ATTACH;FMTTYPE=image/jpeg:https://theoutpostbbi.com/wp-content/uploads/2025/06/BURGER-5.jpg
END:VEVENT
END:VCALENDAR