BEGIN:VCALENDAR
VERSION:2.0
PRODID:-//The Outpost BBI - ECPv6.11.2.1//NONSGML v1.0//EN
CALSCALE:GREGORIAN
METHOD:PUBLISH
X-ORIGINAL-URL:https://theoutpostbbi.com
X-WR-CALDESC:Events for The Outpost BBI
REFRESH-INTERVAL;VALUE=DURATION:PT1H
X-Robots-Tag:noindex
X-PUBLISHED-TTL:PT1H
BEGIN:VTIMEZONE
TZID:UTC
BEGIN:STANDARD
TZOFFSETFROM:+0000
TZOFFSETTO:+0000
TZNAME:UTC
DTSTART:20250101T000000
END:STANDARD
END:VTIMEZONE
BEGIN:VTIMEZONE
TZID:America/New_York
BEGIN:DAYLIGHT
TZOFFSETFROM:-0500
TZOFFSETTO:-0400
TZNAME:EDT
DTSTART:20250309T070000
END:DAYLIGHT
BEGIN:STANDARD
TZOFFSETFROM:-0400
TZOFFSETTO:-0500
TZNAME:EST
DTSTART:20251102T060000
END:STANDARD
END:VTIMEZONE
BEGIN:VEVENT
DTSTART;TZID=UTC:20251026T150000
DTEND;TZID=UTC:20251026T190000
DTSTAMP:20260422T231025
CREATED:20251017T171405Z
LAST-MODIFIED:20251017T171405Z
UID:9496-1761490800-1761505200@theoutpostbbi.com
SUMMARY:OPEN
DESCRIPTION:
URL:https://theoutpostbbi.com/event/open-6/
END:VEVENT
BEGIN:VEVENT
DTSTART;TZID=America/New_York:20251025T153000
DTEND;TZID=America/New_York:20251025T173000
DTSTAMP:20260422T231025
CREATED:20250602T161001Z
LAST-MODIFIED:20250602T161001Z
UID:9220-1761406200-1761413400@theoutpostbbi.com
SUMMARY:Happy Hour
DESCRIPTION:
URL:https://theoutpostbbi.com/event/happy-hour-147/
ATTACH;FMTTYPE=image/jpeg:https://theoutpostbbi.com/wp-content/uploads/2025/06/BURGER-5.jpg
END:VEVENT
BEGIN:VEVENT
DTSTART;TZID=UTC:20251025T150000
DTEND;TZID=UTC:20251025T190000
DTSTAMP:20260422T231025
CREATED:20251017T171328Z
LAST-MODIFIED:20251017T171328Z
UID:9494-1761404400-1761418800@theoutpostbbi.com
SUMMARY:OPEN
DESCRIPTION:
URL:https://theoutpostbbi.com/event/open-5/
END:VEVENT
BEGIN:VEVENT
DTSTART;TZID=America/New_York:20251024T153000
DTEND;TZID=America/New_York:20251024T173000
DTSTAMP:20260422T231025
CREATED:20250602T161000Z
LAST-MODIFIED:20250602T161000Z
UID:9219-1761319800-1761327000@theoutpostbbi.com
SUMMARY:Happy Hour
DESCRIPTION:
URL:https://theoutpostbbi.com/event/happy-hour-146/
ATTACH;FMTTYPE=image/jpeg:https://theoutpostbbi.com/wp-content/uploads/2025/06/BURGER-5.jpg
END:VEVENT
BEGIN:VEVENT
DTSTART;TZID=UTC:20251024T150000
DTEND;TZID=UTC:20251024T190000
DTSTAMP:20260422T231025
CREATED:20251017T171247Z
LAST-MODIFIED:20251017T171247Z
UID:9492-1761318000-1761332400@theoutpostbbi.com
SUMMARY:OPEN
DESCRIPTION:
URL:https://theoutpostbbi.com/event/open-4/
END:VEVENT
BEGIN:VEVENT
DTSTART;VALUE=DATE:20251020
DTEND;VALUE=DATE:20251024
DTSTAMP:20260422T231025
CREATED:20251017T171441Z
LAST-MODIFIED:20251017T171441Z
UID:9498-1760918400-1761263999@theoutpostbbi.com
SUMMARY:CLOSED
DESCRIPTION:
URL:https://theoutpostbbi.com/event/closed/
END:VEVENT
BEGIN:VEVENT
DTSTART;TZID=America/New_York:20251019T153000
DTEND;TZID=America/New_York:20251019T173000
DTSTAMP:20260422T231025
CREATED:20250602T160945Z
LAST-MODIFIED:20250602T160945Z
UID:9214-1760887800-1760895000@theoutpostbbi.com
SUMMARY:Happy Hour
DESCRIPTION:
URL:https://theoutpostbbi.com/event/happy-hour-141/
ATTACH;FMTTYPE=image/jpeg:https://theoutpostbbi.com/wp-content/uploads/2025/06/BURGER-5.jpg
END:VEVENT
BEGIN:VEVENT
DTSTART;TZID=UTC:20251019T150000
DTEND;TZID=UTC:20251019T190000
DTSTAMP:20260422T231025
CREATED:20251017T171207Z
LAST-MODIFIED:20251017T171207Z
UID:9490-1760886000-1760900400@theoutpostbbi.com
SUMMARY:OPEN
DESCRIPTION:
URL:https://theoutpostbbi.com/event/open-3/
END:VEVENT
BEGIN:VEVENT
DTSTART;TZID=America/New_York:20251018T153000
DTEND;TZID=America/New_York:20251018T173000
DTSTAMP:20260422T231025
CREATED:20250602T160944Z
LAST-MODIFIED:20250602T160944Z
UID:9213-1760801400-1760808600@theoutpostbbi.com
SUMMARY:Happy Hour
DESCRIPTION:
URL:https://theoutpostbbi.com/event/happy-hour-140/
ATTACH;FMTTYPE=image/jpeg:https://theoutpostbbi.com/wp-content/uploads/2025/06/BURGER-5.jpg
END:VEVENT
BEGIN:VEVENT
DTSTART;TZID=UTC:20251018T150000
DTEND;TZID=UTC:20251018T190000
DTSTAMP:20260422T231025
CREATED:20251017T171031Z
LAST-MODIFIED:20251017T171031Z
UID:9488-1760799600-1760814000@theoutpostbbi.com
SUMMARY:OPEN
DESCRIPTION:
URL:https://theoutpostbbi.com/event/open-2/
END:VEVENT
BEGIN:VEVENT
DTSTART;TZID=America/New_York:20251017T153000
DTEND;TZID=America/New_York:20251017T173000
DTSTAMP:20260422T231025
CREATED:20250602T160942Z
LAST-MODIFIED:20250602T160942Z
UID:9212-1760715000-1760722200@theoutpostbbi.com
SUMMARY:Happy Hour
DESCRIPTION:
URL:https://theoutpostbbi.com/event/happy-hour-139/
ATTACH;FMTTYPE=image/jpeg:https://theoutpostbbi.com/wp-content/uploads/2025/06/BURGER-5.jpg
END:VEVENT
BEGIN:VEVENT
DTSTART;TZID=UTC:20251017T150000
DTEND;TZID=UTC:20251017T190000
DTSTAMP:20260422T231025
CREATED:20251017T170923Z
LAST-MODIFIED:20251017T170923Z
UID:9486-1760713200-1760727600@theoutpostbbi.com
SUMMARY:OPEN
DESCRIPTION:
URL:https://theoutpostbbi.com/event/open/
END:VEVENT
BEGIN:VEVENT
DTSTART;TZID=America/New_York:20251016T153000
DTEND;TZID=America/New_York:20251016T173000
DTSTAMP:20260422T231025
CREATED:20250602T160932Z
LAST-MODIFIED:20250602T160932Z
UID:9211-1760628600-1760635800@theoutpostbbi.com
SUMMARY:Happy Hour
DESCRIPTION:
URL:https://theoutpostbbi.com/event/happy-hour-138/
ATTACH;FMTTYPE=image/jpeg:https://theoutpostbbi.com/wp-content/uploads/2025/06/BURGER-5.jpg
END:VEVENT
BEGIN:VEVENT
DTSTART;TZID=America/New_York:20251015T153000
DTEND;TZID=America/New_York:20251015T173000
DTSTAMP:20260422T231025
CREATED:20250602T160931Z
LAST-MODIFIED:20250602T160931Z
UID:9210-1760542200-1760549400@theoutpostbbi.com
SUMMARY:Happy Hour
DESCRIPTION:
URL:https://theoutpostbbi.com/event/happy-hour-137/
ATTACH;FMTTYPE=image/jpeg:https://theoutpostbbi.com/wp-content/uploads/2025/06/BURGER-5.jpg
END:VEVENT
BEGIN:VEVENT
DTSTART;TZID=America/New_York:20251014T153000
DTEND;TZID=America/New_York:20251014T173000
DTSTAMP:20260422T231025
CREATED:20250602T160930Z
LAST-MODIFIED:20250602T160930Z
UID:9209-1760455800-1760463000@theoutpostbbi.com
SUMMARY:Happy Hour
DESCRIPTION:
URL:https://theoutpostbbi.com/event/happy-hour-136/
ATTACH;FMTTYPE=image/jpeg:https://theoutpostbbi.com/wp-content/uploads/2025/06/BURGER-5.jpg
END:VEVENT
BEGIN:VEVENT
DTSTART;TZID=America/New_York:20251013T153000
DTEND;TZID=America/New_York:20251013T173000
DTSTAMP:20260422T231025
CREATED:20250602T160928Z
LAST-MODIFIED:20250602T160928Z
UID:9208-1760369400-1760376600@theoutpostbbi.com
SUMMARY:Happy Hour
DESCRIPTION:
URL:https://theoutpostbbi.com/event/happy-hour-135/
ATTACH;FMTTYPE=image/jpeg:https://theoutpostbbi.com/wp-content/uploads/2025/06/BURGER-5.jpg
END:VEVENT
BEGIN:VEVENT
DTSTART;TZID=America/New_York:20251012T153000
DTEND;TZID=America/New_York:20251012T173000
DTSTAMP:20260422T231025
CREATED:20250602T160927Z
LAST-MODIFIED:20250602T160927Z
UID:9207-1760283000-1760290200@theoutpostbbi.com
SUMMARY:Happy Hour
DESCRIPTION:
URL:https://theoutpostbbi.com/event/happy-hour-134/
ATTACH;FMTTYPE=image/jpeg:https://theoutpostbbi.com/wp-content/uploads/2025/06/BURGER-5.jpg
END:VEVENT
BEGIN:VEVENT
DTSTART;TZID=America/New_York:20251011T153000
DTEND;TZID=America/New_York:20251011T173000
DTSTAMP:20260422T231026
CREATED:20250602T160917Z
LAST-MODIFIED:20250602T160917Z
UID:9206-1760196600-1760203800@theoutpostbbi.com
SUMMARY:Happy Hour
DESCRIPTION:
URL:https://theoutpostbbi.com/event/happy-hour-133/
ATTACH;FMTTYPE=image/jpeg:https://theoutpostbbi.com/wp-content/uploads/2025/06/BURGER-5.jpg
END:VEVENT
BEGIN:VEVENT
DTSTART;TZID=America/New_York:20251010T153000
DTEND;TZID=America/New_York:20251010T173000
DTSTAMP:20260422T231026
CREATED:20250602T160916Z
LAST-MODIFIED:20250602T160916Z
UID:9205-1760110200-1760117400@theoutpostbbi.com
SUMMARY:Happy Hour
DESCRIPTION:
URL:https://theoutpostbbi.com/event/happy-hour-132/
ATTACH;FMTTYPE=image/jpeg:https://theoutpostbbi.com/wp-content/uploads/2025/06/BURGER-5.jpg
END:VEVENT
BEGIN:VEVENT
DTSTART;TZID=America/New_York:20251009T153000
DTEND;TZID=America/New_York:20251009T173000
DTSTAMP:20260422T231026
CREATED:20250602T160915Z
LAST-MODIFIED:20250602T160915Z
UID:9204-1760023800-1760031000@theoutpostbbi.com
SUMMARY:Happy Hour
DESCRIPTION:
URL:https://theoutpostbbi.com/event/happy-hour-131/
ATTACH;FMTTYPE=image/jpeg:https://theoutpostbbi.com/wp-content/uploads/2025/06/BURGER-5.jpg
END:VEVENT
BEGIN:VEVENT
DTSTART;TZID=America/New_York:20251008T153000
DTEND;TZID=America/New_York:20251008T173000
DTSTAMP:20260422T231026
CREATED:20250602T160913Z
LAST-MODIFIED:20250602T160913Z
UID:9203-1759937400-1759944600@theoutpostbbi.com
SUMMARY:Happy Hour
DESCRIPTION:
URL:https://theoutpostbbi.com/event/happy-hour-130/
ATTACH;FMTTYPE=image/jpeg:https://theoutpostbbi.com/wp-content/uploads/2025/06/BURGER-5.jpg
END:VEVENT
BEGIN:VEVENT
DTSTART;TZID=America/New_York:20251007T153000
DTEND;TZID=America/New_York:20251007T173000
DTSTAMP:20260422T231026
CREATED:20250602T160912Z
LAST-MODIFIED:20250602T160912Z
UID:9202-1759851000-1759858200@theoutpostbbi.com
SUMMARY:Happy Hour
DESCRIPTION:
URL:https://theoutpostbbi.com/event/happy-hour-129/
ATTACH;FMTTYPE=image/jpeg:https://theoutpostbbi.com/wp-content/uploads/2025/06/BURGER-5.jpg
END:VEVENT
BEGIN:VEVENT
DTSTART;TZID=America/New_York:20251006T153000
DTEND;TZID=America/New_York:20251006T173000
DTSTAMP:20260422T231026
CREATED:20250602T160902Z
LAST-MODIFIED:20250602T160902Z
UID:9201-1759764600-1759771800@theoutpostbbi.com
SUMMARY:Happy Hour
DESCRIPTION:
URL:https://theoutpostbbi.com/event/happy-hour-128/
ATTACH;FMTTYPE=image/jpeg:https://theoutpostbbi.com/wp-content/uploads/2025/06/BURGER-5.jpg
END:VEVENT
BEGIN:VEVENT
DTSTART;TZID=America/New_York:20251005T153000
DTEND;TZID=America/New_York:20251005T173000
DTSTAMP:20260422T231026
CREATED:20250602T160901Z
LAST-MODIFIED:20250602T160901Z
UID:9200-1759678200-1759685400@theoutpostbbi.com
SUMMARY:Happy Hour
DESCRIPTION:
URL:https://theoutpostbbi.com/event/happy-hour-127/
ATTACH;FMTTYPE=image/jpeg:https://theoutpostbbi.com/wp-content/uploads/2025/06/BURGER-5.jpg
END:VEVENT
BEGIN:VEVENT
DTSTART;TZID=America/New_York:20251004T153000
DTEND;TZID=America/New_York:20251004T173000
DTSTAMP:20260422T231026
CREATED:20250602T160900Z
LAST-MODIFIED:20250602T160900Z
UID:9199-1759591800-1759599000@theoutpostbbi.com
SUMMARY:Happy Hour
DESCRIPTION:
URL:https://theoutpostbbi.com/event/happy-hour-126/
ATTACH;FMTTYPE=image/jpeg:https://theoutpostbbi.com/wp-content/uploads/2025/06/BURGER-5.jpg
END:VEVENT
BEGIN:VEVENT
DTSTART;TZID=America/New_York:20251003T153000
DTEND;TZID=America/New_York:20251003T173000
DTSTAMP:20260422T231026
CREATED:20250602T160858Z
LAST-MODIFIED:20250602T160858Z
UID:9198-1759505400-1759512600@theoutpostbbi.com
SUMMARY:Happy Hour
DESCRIPTION:
URL:https://theoutpostbbi.com/event/happy-hour-125/
ATTACH;FMTTYPE=image/jpeg:https://theoutpostbbi.com/wp-content/uploads/2025/06/BURGER-5.jpg
END:VEVENT
BEGIN:VEVENT
DTSTART;TZID=America/New_York:20251002T153000
DTEND;TZID=America/New_York:20251002T173000
DTSTAMP:20260422T231026
CREATED:20250602T160857Z
LAST-MODIFIED:20250602T160857Z
UID:9197-1759419000-1759426200@theoutpostbbi.com
SUMMARY:Happy Hour
DESCRIPTION:
URL:https://theoutpostbbi.com/event/happy-hour-124/
ATTACH;FMTTYPE=image/jpeg:https://theoutpostbbi.com/wp-content/uploads/2025/06/BURGER-5.jpg
END:VEVENT
BEGIN:VEVENT
DTSTART;TZID=America/New_York:20251001T153000
DTEND;TZID=America/New_York:20251001T173000
DTSTAMP:20260422T231026
CREATED:20250602T160847Z
LAST-MODIFIED:20250602T160847Z
UID:9196-1759332600-1759339800@theoutpostbbi.com
SUMMARY:Happy Hour
DESCRIPTION:
URL:https://theoutpostbbi.com/event/happy-hour-123/
ATTACH;FMTTYPE=image/jpeg:https://theoutpostbbi.com/wp-content/uploads/2025/06/BURGER-5.jpg
END:VEVENT
BEGIN:VEVENT
DTSTART;TZID=America/New_York:20250930T153000
DTEND;TZID=America/New_York:20250930T173000
DTSTAMP:20260422T231026
CREATED:20250602T160846Z
LAST-MODIFIED:20250602T160846Z
UID:9195-1759246200-1759253400@theoutpostbbi.com
SUMMARY:Happy Hour
DESCRIPTION:
URL:https://theoutpostbbi.com/event/happy-hour-122/
ATTACH;FMTTYPE=image/jpeg:https://theoutpostbbi.com/wp-content/uploads/2025/06/BURGER-5.jpg
END:VEVENT
BEGIN:VEVENT
DTSTART;TZID=America/New_York:20250929T153000
DTEND;TZID=America/New_York:20250929T173000
DTSTAMP:20260422T231026
CREATED:20250602T160845Z
LAST-MODIFIED:20250602T160845Z
UID:9194-1759159800-1759167000@theoutpostbbi.com
SUMMARY:Happy Hour
DESCRIPTION:
URL:https://theoutpostbbi.com/event/happy-hour-121/
ATTACH;FMTTYPE=image/jpeg:https://theoutpostbbi.com/wp-content/uploads/2025/06/BURGER-5.jpg
END:VEVENT
END:VCALENDAR