BEGIN:VCALENDAR
VERSION:2.0
PRODID:-//The Outpost BBI - ECPv6.11.2.1//NONSGML v1.0//EN
CALSCALE:GREGORIAN
METHOD:PUBLISH
X-ORIGINAL-URL:https://theoutpostbbi.com
X-WR-CALDESC:Events for The Outpost BBI
REFRESH-INTERVAL;VALUE=DURATION:PT1H
X-Robots-Tag:noindex
X-PUBLISHED-TTL:PT1H
BEGIN:VTIMEZONE
TZID:America/New_York
BEGIN:DAYLIGHT
TZOFFSETFROM:-0500
TZOFFSETTO:-0400
TZNAME:EDT
DTSTART:20250309T070000
END:DAYLIGHT
BEGIN:STANDARD
TZOFFSETFROM:-0400
TZOFFSETTO:-0500
TZNAME:EST
DTSTART:20251102T060000
END:STANDARD
END:VTIMEZONE
BEGIN:VTIMEZONE
TZID:UTC
BEGIN:STANDARD
TZOFFSETFROM:+0000
TZOFFSETTO:+0000
TZNAME:UTC
DTSTART:20250101T000000
END:STANDARD
END:VTIMEZONE
BEGIN:VEVENT
DTSTART;VALUE=DATE:20250623
DTEND;VALUE=DATE:20250624
DTSTAMP:20260426T030504
CREATED:20250602T155310Z
LAST-MODIFIED:20250602T155310Z
UID:8982-1750636800-1750723199@theoutpostbbi.com
SUMMARY:Hot Dog Monday
DESCRIPTION:
URL:https://theoutpostbbi.com/event/hot-dog-monday/
END:VEVENT
BEGIN:VEVENT
DTSTART;TZID=America/New_York:20250622T153000
DTEND;TZID=America/New_York:20250622T173000
DTSTAMP:20260426T030504
CREATED:20250601T192415Z
LAST-MODIFIED:20250602T160345Z
UID:8600-1750606200-1750613400@theoutpostbbi.com
SUMMARY:Happy Hour
DESCRIPTION:
URL:https://theoutpostbbi.com/event/happy-hour-24/
ATTACH;FMTTYPE=image/jpeg:https://theoutpostbbi.com/wp-content/uploads/2025/06/BURGER-5.jpg
END:VEVENT
BEGIN:VEVENT
DTSTART;TZID=America/New_York:20250621T153000
DTEND;TZID=America/New_York:20250621T173000
DTSTAMP:20260426T030504
CREATED:20250601T192415Z
LAST-MODIFIED:20250602T160344Z
UID:8599-1750519800-1750527000@theoutpostbbi.com
SUMMARY:Happy Hour
DESCRIPTION:
URL:https://theoutpostbbi.com/event/happy-hour-23/
ATTACH;FMTTYPE=image/jpeg:https://theoutpostbbi.com/wp-content/uploads/2025/06/BURGER-5.jpg
END:VEVENT
BEGIN:VEVENT
DTSTART;TZID=UTC:20250621T120000
DTEND;TZID=UTC:20250621T160000
DTSTAMP:20260426T030504
CREATED:20250602T183109Z
LAST-MODIFIED:20250602T183109Z
UID:9249-1750507200-1750521600@theoutpostbbi.com
SUMMARY:Summer Party!
DESCRIPTION:
URL:https://theoutpostbbi.com/event/summer-party/
END:VEVENT
BEGIN:VEVENT
DTSTART;TZID=UTC:20250620T180000
DTEND;TZID=UTC:20250620T220000
DTSTAMP:20260426T030504
CREATED:20250520T121819Z
LAST-MODIFIED:20250520T121819Z
UID:8394-1750442400-1750456800@theoutpostbbi.com
SUMMARY:Kathy's Birthday Bash!
DESCRIPTION:
URL:https://theoutpostbbi.com/event/kathys-birthday-bash/
END:VEVENT
BEGIN:VEVENT
DTSTART;TZID=America/New_York:20250620T153000
DTEND;TZID=America/New_York:20250620T173000
DTSTAMP:20260426T030504
CREATED:20250601T192415Z
LAST-MODIFIED:20250602T160343Z
UID:8598-1750433400-1750440600@theoutpostbbi.com
SUMMARY:Happy Hour
DESCRIPTION:
URL:https://theoutpostbbi.com/event/happy-hour-22/
ATTACH;FMTTYPE=image/jpeg:https://theoutpostbbi.com/wp-content/uploads/2025/06/BURGER-5.jpg
END:VEVENT
BEGIN:VEVENT
DTSTART;VALUE=DATE:20250620
DTEND;VALUE=DATE:20250621
DTSTAMP:20260426T030504
CREATED:20250602T142658Z
LAST-MODIFIED:20250602T154352Z
UID:8771-1750377600-1750463999@theoutpostbbi.com
SUMMARY:$16 Fish & Chips
DESCRIPTION:
URL:https://theoutpostbbi.com/event/16-fish-chips-3/
ATTACH;FMTTYPE=image/jpeg:https://theoutpostbbi.com/wp-content/uploads/2025/06/BURGER-3.jpg
END:VEVENT
BEGIN:VEVENT
DTSTART;TZID=America/New_York:20250619T153000
DTEND;TZID=America/New_York:20250619T173000
DTSTAMP:20260426T030504
CREATED:20250601T192415Z
LAST-MODIFIED:20250602T160342Z
UID:8597-1750347000-1750354200@theoutpostbbi.com
SUMMARY:Happy Hour
DESCRIPTION:
URL:https://theoutpostbbi.com/event/happy-hour-21/
ATTACH;FMTTYPE=image/jpeg:https://theoutpostbbi.com/wp-content/uploads/2025/06/BURGER-5.jpg
END:VEVENT
BEGIN:VEVENT
DTSTART;VALUE=DATE:20250619
DTEND;VALUE=DATE:20250620
DTSTAMP:20260426T030504
CREATED:20250602T142500Z
LAST-MODIFIED:20250602T153425Z
UID:8744-1750291200-1750377599@theoutpostbbi.com
SUMMARY:$12 Burgers
DESCRIPTION:
URL:https://theoutpostbbi.com/event/12-burgers-3/
ATTACH;FMTTYPE=image/jpeg:https://theoutpostbbi.com/wp-content/uploads/2025/06/BURGER-2.jpg
END:VEVENT
BEGIN:VEVENT
DTSTART;TZID=America/New_York:20250618T153000
DTEND;TZID=America/New_York:20250618T173000
DTSTAMP:20260426T030504
CREATED:20250601T192415Z
LAST-MODIFIED:20250602T160332Z
UID:8596-1750260600-1750267800@theoutpostbbi.com
SUMMARY:Happy Hour
DESCRIPTION:
URL:https://theoutpostbbi.com/event/happy-hour-20/
ATTACH;FMTTYPE=image/jpeg:https://theoutpostbbi.com/wp-content/uploads/2025/06/BURGER-5.jpg
END:VEVENT
BEGIN:VEVENT
DTSTART;TZID=UTC:20250618T133000
DTEND;TZID=UTC:20250618T153000
DTSTAMP:20260426T030504
CREATED:20250618T191358Z
LAST-MODIFIED:20250618T191432Z
UID:9410-1750253400-1750260600@theoutpostbbi.com
SUMMARY:Kids Karaoke
DESCRIPTION:Kids 17 and under – come on up and take a swing at some Karaoke! We will also have Pizza by the Slice and Popcorn available! All singers will earn One Free Ice Cream!
URL:https://theoutpostbbi.com/event/kids-karaoke-4/
END:VEVENT
BEGIN:VEVENT
DTSTART;VALUE=DATE:20250618
DTEND;VALUE=DATE:20250619
DTSTAMP:20260426T030504
CREATED:20250602T142307Z
LAST-MODIFIED:20250602T152943Z
UID:8720-1750204800-1750291199@theoutpostbbi.com
SUMMARY:Wing Wednesday
DESCRIPTION:
URL:https://theoutpostbbi.com/event/wing-wednesday-3/
ATTACH;FMTTYPE=image/jpeg:https://theoutpostbbi.com/wp-content/uploads/2025/06/BURGER.jpg
END:VEVENT
BEGIN:VEVENT
DTSTART;TZID=America/New_York:20250617T153000
DTEND;TZID=America/New_York:20250617T173000
DTSTAMP:20260426T030504
CREATED:20250601T192401Z
LAST-MODIFIED:20250602T160331Z
UID:8595-1750174200-1750181400@theoutpostbbi.com
SUMMARY:Happy Hour
DESCRIPTION:
URL:https://theoutpostbbi.com/event/happy-hour-19/
ATTACH;FMTTYPE=image/jpeg:https://theoutpostbbi.com/wp-content/uploads/2025/06/BURGER-5.jpg
END:VEVENT
BEGIN:VEVENT
DTSTART;VALUE=DATE:20250617
DTEND;VALUE=DATE:20250618
DTSTAMP:20260426T030504
CREATED:20250601T193523Z
LAST-MODIFIED:20250602T154803Z
UID:8697-1750118400-1750204799@theoutpostbbi.com
SUMMARY:Taco Tuesday
DESCRIPTION:
URL:https://theoutpostbbi.com/event/taco-tuesday-25/
ATTACH;FMTTYPE=image/jpeg:https://theoutpostbbi.com/wp-content/uploads/2025/06/BURGER-4.jpg
END:VEVENT
BEGIN:VEVENT
DTSTART;TZID=America/New_York:20250615T153000
DTEND;TZID=America/New_York:20250615T173000
DTSTAMP:20260426T030504
CREATED:20250601T192400Z
LAST-MODIFIED:20250602T160329Z
UID:8593-1750001400-1750008600@theoutpostbbi.com
SUMMARY:Happy Hour
DESCRIPTION:
URL:https://theoutpostbbi.com/event/happy-hour-17/
ATTACH;FMTTYPE=image/jpeg:https://theoutpostbbi.com/wp-content/uploads/2025/06/BURGER-5.jpg
END:VEVENT
BEGIN:VEVENT
DTSTART;TZID=UTC:20250615T110000
DTEND;TZID=UTC:20250615T190000
DTSTAMP:20260426T030504
CREATED:20250520T121953Z
LAST-MODIFIED:20250520T121953Z
UID:8396-1749985200-1750014000@theoutpostbbi.com
SUMMARY:Father's Day Celebration
DESCRIPTION:Happy Father’s Day! Stop on in for select specials in appreciation for all you do!
URL:https://theoutpostbbi.com/event/fathers-day-celebration/
END:VEVENT
BEGIN:VEVENT
DTSTART;TZID=America/New_York:20250614T153000
DTEND;TZID=America/New_York:20250614T173000
DTSTAMP:20260426T030504
CREATED:20250601T192400Z
LAST-MODIFIED:20250602T160328Z
UID:8592-1749915000-1749922200@theoutpostbbi.com
SUMMARY:Happy Hour
DESCRIPTION:
URL:https://theoutpostbbi.com/event/happy-hour-16/
ATTACH;FMTTYPE=image/jpeg:https://theoutpostbbi.com/wp-content/uploads/2025/06/BURGER-5.jpg
END:VEVENT
BEGIN:VEVENT
DTSTART;TZID=UTC:20250614T120000
DTEND;TZID=UTC:20250614T160000
DTSTAMP:20260426T030504
CREATED:20250614T124433Z
LAST-MODIFIED:20250614T124433Z
UID:9383-1749902400-1749916800@theoutpostbbi.com
SUMMARY:Tigers Game
DESCRIPTION:
URL:https://theoutpostbbi.com/event/tigers-game/
END:VEVENT
BEGIN:VEVENT
DTSTART;TZID=America/New_York:20250613T153000
DTEND;TZID=America/New_York:20250613T173000
DTSTAMP:20260426T030504
CREATED:20250601T192400Z
LAST-MODIFIED:20250602T160327Z
UID:8591-1749828600-1749835800@theoutpostbbi.com
SUMMARY:Happy Hour
DESCRIPTION:
URL:https://theoutpostbbi.com/event/happy-hour-15/
ATTACH;FMTTYPE=image/jpeg:https://theoutpostbbi.com/wp-content/uploads/2025/06/BURGER-5.jpg
END:VEVENT
BEGIN:VEVENT
DTSTART;VALUE=DATE:20250613
DTEND;VALUE=DATE:20250614
DTSTAMP:20260426T030504
CREATED:20250602T142658Z
LAST-MODIFIED:20250602T154351Z
UID:8770-1749772800-1749859199@theoutpostbbi.com
SUMMARY:$16 Fish & Chips
DESCRIPTION:
URL:https://theoutpostbbi.com/event/16-fish-chips-2/
ATTACH;FMTTYPE=image/jpeg:https://theoutpostbbi.com/wp-content/uploads/2025/06/BURGER-3.jpg
END:VEVENT
BEGIN:VEVENT
DTSTART;TZID=America/New_York:20250612T153000
DTEND;TZID=America/New_York:20250612T173000
DTSTAMP:20260426T030504
CREATED:20250601T192358Z
LAST-MODIFIED:20250602T160317Z
UID:8590-1749742200-1749749400@theoutpostbbi.com
SUMMARY:Happy Hour
DESCRIPTION:
URL:https://theoutpostbbi.com/event/happy-hour-14/
ATTACH;FMTTYPE=image/jpeg:https://theoutpostbbi.com/wp-content/uploads/2025/06/BURGER-5.jpg
END:VEVENT
BEGIN:VEVENT
DTSTART;VALUE=DATE:20250612
DTEND;VALUE=DATE:20250613
DTSTAMP:20260426T030504
CREATED:20250602T142500Z
LAST-MODIFIED:20250602T153424Z
UID:8743-1749686400-1749772799@theoutpostbbi.com
SUMMARY:$12 Burgers
DESCRIPTION:
URL:https://theoutpostbbi.com/event/12-burgers-2/
ATTACH;FMTTYPE=image/jpeg:https://theoutpostbbi.com/wp-content/uploads/2025/06/BURGER-2.jpg
END:VEVENT
BEGIN:VEVENT
DTSTART;TZID=America/New_York:20250611T153000
DTEND;TZID=America/New_York:20250611T173000
DTSTAMP:20260426T030504
CREATED:20250601T192358Z
LAST-MODIFIED:20250602T160316Z
UID:8589-1749655800-1749663000@theoutpostbbi.com
SUMMARY:Happy Hour
DESCRIPTION:
URL:https://theoutpostbbi.com/event/happy-hour-13/
ATTACH;FMTTYPE=image/jpeg:https://theoutpostbbi.com/wp-content/uploads/2025/06/BURGER-5.jpg
END:VEVENT
BEGIN:VEVENT
DTSTART;VALUE=DATE:20250611
DTEND;VALUE=DATE:20250612
DTSTAMP:20260426T030504
CREATED:20250602T142307Z
LAST-MODIFIED:20250602T152942Z
UID:8719-1749600000-1749686399@theoutpostbbi.com
SUMMARY:Wing Wednesday
DESCRIPTION:
URL:https://theoutpostbbi.com/event/wing-wednesday-2/
ATTACH;FMTTYPE=image/jpeg:https://theoutpostbbi.com/wp-content/uploads/2025/06/BURGER.jpg
END:VEVENT
BEGIN:VEVENT
DTSTART;TZID=America/New_York:20250610T153000
DTEND;TZID=America/New_York:20250610T173000
DTSTAMP:20260426T030504
CREATED:20250601T192358Z
LAST-MODIFIED:20250602T160315Z
UID:8588-1749569400-1749576600@theoutpostbbi.com
SUMMARY:Happy Hour
DESCRIPTION:
URL:https://theoutpostbbi.com/event/happy-hour-12/
ATTACH;FMTTYPE=image/jpeg:https://theoutpostbbi.com/wp-content/uploads/2025/06/BURGER-5.jpg
END:VEVENT
BEGIN:VEVENT
DTSTART;VALUE=DATE:20250610
DTEND;VALUE=DATE:20250611
DTSTAMP:20260426T030504
CREATED:20250601T193523Z
LAST-MODIFIED:20250602T154802Z
UID:8696-1749513600-1749599999@theoutpostbbi.com
SUMMARY:Taco Tuesday
DESCRIPTION:
URL:https://theoutpostbbi.com/event/taco-tuesday-24/
ATTACH;FMTTYPE=image/jpeg:https://theoutpostbbi.com/wp-content/uploads/2025/06/BURGER-4.jpg
END:VEVENT
BEGIN:VEVENT
DTSTART;TZID=America/New_York:20250608T153000
DTEND;TZID=America/New_York:20250608T173000
DTSTAMP:20260426T030504
CREATED:20250601T192358Z
LAST-MODIFIED:20250602T160314Z
UID:8587-1749396600-1749403800@theoutpostbbi.com
SUMMARY:Happy Hour
DESCRIPTION:
URL:https://theoutpostbbi.com/event/happy-hour-11/
ATTACH;FMTTYPE=image/jpeg:https://theoutpostbbi.com/wp-content/uploads/2025/06/BURGER-5.jpg
END:VEVENT
BEGIN:VEVENT
DTSTART;TZID=UTC:20250608T120000
DTEND;TZID=UTC:20250608T190000
DTSTAMP:20260426T030504
CREATED:20250602T192325Z
LAST-MODIFIED:20250602T192325Z
UID:9261-1749384000-1749409200@theoutpostbbi.com
SUMMARY:Chicken Parmesan Dinner
DESCRIPTION:
URL:https://theoutpostbbi.com/event/chicken-parmesan-dinner/
END:VEVENT
BEGIN:VEVENT
DTSTART;TZID=America/New_York:20250607T153000
DTEND;TZID=America/New_York:20250607T173000
DTSTAMP:20260426T030504
CREATED:20250601T192357Z
LAST-MODIFIED:20250602T160312Z
UID:8586-1749310200-1749317400@theoutpostbbi.com
SUMMARY:Happy Hour
DESCRIPTION:
URL:https://theoutpostbbi.com/event/happy-hour-10/
ATTACH;FMTTYPE=image/jpeg:https://theoutpostbbi.com/wp-content/uploads/2025/06/BURGER-5.jpg
END:VEVENT
BEGIN:VEVENT
DTSTART;TZID=America/New_York:20250606T153000
DTEND;TZID=America/New_York:20250606T173000
DTSTAMP:20260426T030504
CREATED:20250601T192355Z
LAST-MODIFIED:20250602T160308Z
UID:8585-1749223800-1749231000@theoutpostbbi.com
SUMMARY:Happy Hour
DESCRIPTION:
URL:https://theoutpostbbi.com/event/happy-hour-9/
ATTACH;FMTTYPE=image/jpeg:https://theoutpostbbi.com/wp-content/uploads/2025/06/BURGER-5.jpg
END:VEVENT
END:VCALENDAR