BEGIN:VCALENDAR
VERSION:2.0
PRODID:-//The Outpost BBI - ECPv6.11.2.1//NONSGML v1.0//EN
CALSCALE:GREGORIAN
METHOD:PUBLISH
X-ORIGINAL-URL:https://theoutpostbbi.com
X-WR-CALDESC:Events for The Outpost BBI
REFRESH-INTERVAL;VALUE=DURATION:PT1H
X-Robots-Tag:noindex
X-PUBLISHED-TTL:PT1H
BEGIN:VTIMEZONE
TZID:America/New_York
BEGIN:DAYLIGHT
TZOFFSETFROM:-0500
TZOFFSETTO:-0400
TZNAME:EDT
DTSTART:20250309T070000
END:DAYLIGHT
BEGIN:STANDARD
TZOFFSETFROM:-0400
TZOFFSETTO:-0500
TZNAME:EST
DTSTART:20251102T060000
END:STANDARD
END:VTIMEZONE
BEGIN:VTIMEZONE
TZID:UTC
BEGIN:STANDARD
TZOFFSETFROM:+0000
TZOFFSETTO:+0000
TZNAME:UTC
DTSTART:20250101T000000
END:STANDARD
END:VTIMEZONE
BEGIN:VEVENT
DTSTART;TZID=America/New_York:20250706T153000
DTEND;TZID=America/New_York:20250706T173000
DTSTAMP:20260426T000814
CREATED:20250601T192547Z
LAST-MODIFIED:20250602T160429Z
UID:8612-1751815800-1751823000@theoutpostbbi.com
SUMMARY:Happy Hour
DESCRIPTION:
URL:https://theoutpostbbi.com/event/happy-hour-36/
ATTACH;FMTTYPE=image/jpeg:https://theoutpostbbi.com/wp-content/uploads/2025/06/BURGER-5.jpg
END:VEVENT
BEGIN:VEVENT
DTSTART;TZID=America/New_York:20250705T153000
DTEND;TZID=America/New_York:20250705T173000
DTSTAMP:20260426T000814
CREATED:20250601T192547Z
LAST-MODIFIED:20250602T160428Z
UID:8611-1751729400-1751736600@theoutpostbbi.com
SUMMARY:Happy Hour
DESCRIPTION:
URL:https://theoutpostbbi.com/event/happy-hour-35/
ATTACH;FMTTYPE=image/jpeg:https://theoutpostbbi.com/wp-content/uploads/2025/06/BURGER-5.jpg
END:VEVENT
BEGIN:VEVENT
DTSTART;TZID=America/New_York:20250704T153000
DTEND;TZID=America/New_York:20250704T173000
DTSTAMP:20260426T000814
CREATED:20250601T192536Z
LAST-MODIFIED:20250602T160427Z
UID:8610-1751643000-1751650200@theoutpostbbi.com
SUMMARY:Happy Hour
DESCRIPTION:
URL:https://theoutpostbbi.com/event/happy-hour-34/
ATTACH;FMTTYPE=image/jpeg:https://theoutpostbbi.com/wp-content/uploads/2025/06/BURGER-5.jpg
END:VEVENT
BEGIN:VEVENT
DTSTART;VALUE=DATE:20250704
DTEND;VALUE=DATE:20250705
DTSTAMP:20260426T000814
CREATED:20250602T142658Z
LAST-MODIFIED:20250602T154354Z
UID:8773-1751587200-1751673599@theoutpostbbi.com
SUMMARY:$16 Fish & Chips
DESCRIPTION:
URL:https://theoutpostbbi.com/event/16-fish-chips-5/
ATTACH;FMTTYPE=image/jpeg:https://theoutpostbbi.com/wp-content/uploads/2025/06/BURGER-3.jpg
END:VEVENT
BEGIN:VEVENT
DTSTART;TZID=America/New_York:20250703T153000
DTEND;TZID=America/New_York:20250703T173000
DTSTAMP:20260426T000814
CREATED:20250601T192536Z
LAST-MODIFIED:20250602T160417Z
UID:8609-1751556600-1751563800@theoutpostbbi.com
SUMMARY:Happy Hour
DESCRIPTION:
URL:https://theoutpostbbi.com/event/happy-hour-33/
ATTACH;FMTTYPE=image/jpeg:https://theoutpostbbi.com/wp-content/uploads/2025/06/BURGER-5.jpg
END:VEVENT
BEGIN:VEVENT
DTSTART;VALUE=DATE:20250703
DTEND;VALUE=DATE:20250704
DTSTAMP:20260426T000814
CREATED:20250602T142501Z
LAST-MODIFIED:20250602T153427Z
UID:8746-1751500800-1751587199@theoutpostbbi.com
SUMMARY:$12 Burgers
DESCRIPTION:
URL:https://theoutpostbbi.com/event/12-burgers-5/
ATTACH;FMTTYPE=image/jpeg:https://theoutpostbbi.com/wp-content/uploads/2025/06/BURGER-2.jpg
END:VEVENT
BEGIN:VEVENT
DTSTART;TZID=America/New_York:20250702T153000
DTEND;TZID=America/New_York:20250702T173000
DTSTAMP:20260426T000814
CREATED:20250601T192536Z
LAST-MODIFIED:20250602T160416Z
UID:8608-1751470200-1751477400@theoutpostbbi.com
SUMMARY:Happy Hour
DESCRIPTION:
URL:https://theoutpostbbi.com/event/happy-hour-32/
ATTACH;FMTTYPE=image/jpeg:https://theoutpostbbi.com/wp-content/uploads/2025/06/BURGER-5.jpg
END:VEVENT
BEGIN:VEVENT
DTSTART;TZID=UTC:20250702T133000
DTEND;TZID=UTC:20250702T153000
DTSTAMP:20260426T000814
CREATED:20250602T191850Z
LAST-MODIFIED:20250602T191850Z
UID:9259-1751463000-1751470200@theoutpostbbi.com
SUMMARY:Kids Karaoke!
DESCRIPTION:Kids 17 and under – come on up and take a swing at some Karaoke!\nWe will also have Pizza by the Slice and Popcorn available!\nAll singers will earn a Free Kids Scoop!
URL:https://theoutpostbbi.com/event/kids-karaoke-3/
END:VEVENT
BEGIN:VEVENT
DTSTART;VALUE=DATE:20250702
DTEND;VALUE=DATE:20250703
DTSTAMP:20260426T000814
CREATED:20250602T142308Z
LAST-MODIFIED:20250602T152945Z
UID:8722-1751414400-1751500799@theoutpostbbi.com
SUMMARY:Wing Wednesday
DESCRIPTION:
URL:https://theoutpostbbi.com/event/wing-wednesday-5/
ATTACH;FMTTYPE=image/jpeg:https://theoutpostbbi.com/wp-content/uploads/2025/06/BURGER.jpg
END:VEVENT
BEGIN:VEVENT
DTSTART;TZID=America/New_York:20250701T153000
DTEND;TZID=America/New_York:20250701T173000
DTSTAMP:20260426T000814
CREATED:20250601T192535Z
LAST-MODIFIED:20250602T160414Z
UID:8607-1751383800-1751391000@theoutpostbbi.com
SUMMARY:Happy Hour
DESCRIPTION:
URL:https://theoutpostbbi.com/event/happy-hour-31/
ATTACH;FMTTYPE=image/jpeg:https://theoutpostbbi.com/wp-content/uploads/2025/06/BURGER-5.jpg
END:VEVENT
BEGIN:VEVENT
DTSTART;VALUE=DATE:20250701
DTEND;VALUE=DATE:20250702
DTSTAMP:20260426T000814
CREATED:20250601T193524Z
LAST-MODIFIED:20250602T154805Z
UID:8699-1751328000-1751414399@theoutpostbbi.com
SUMMARY:Taco Tuesday
DESCRIPTION:
URL:https://theoutpostbbi.com/event/taco-tuesday-27/
ATTACH;FMTTYPE=image/jpeg:https://theoutpostbbi.com/wp-content/uploads/2025/06/BURGER-4.jpg
END:VEVENT
BEGIN:VEVENT
DTSTART;TZID=America/New_York:20250630T153000
DTEND;TZID=America/New_York:20250630T173000
DTSTAMP:20260426T000814
CREATED:20250601T191909Z
LAST-MODIFIED:20250602T160413Z
UID:8578-1751297400-1751304600@theoutpostbbi.com
SUMMARY:Happy Hour
DESCRIPTION:
URL:https://theoutpostbbi.com/event/happy-hour-4/
CATEGORIES:Family Fun
ATTACH;FMTTYPE=image/jpeg:https://theoutpostbbi.com/wp-content/uploads/2025/06/BURGER-5.jpg
END:VEVENT
BEGIN:VEVENT
DTSTART;VALUE=DATE:20250630
DTEND;VALUE=DATE:20250701
DTSTAMP:20260426T000814
CREATED:20250602T155311Z
LAST-MODIFIED:20250602T155311Z
UID:8983-1751241600-1751327999@theoutpostbbi.com
SUMMARY:Hot Dog Monday
DESCRIPTION:
URL:https://theoutpostbbi.com/event/hot-dog-monday-2/
END:VEVENT
BEGIN:VEVENT
DTSTART;TZID=America/New_York:20250629T153000
DTEND;TZID=America/New_York:20250629T173000
DTSTAMP:20260426T000814
CREATED:20250601T192535Z
LAST-MODIFIED:20250602T160412Z
UID:8606-1751211000-1751218200@theoutpostbbi.com
SUMMARY:Happy Hour
DESCRIPTION:
URL:https://theoutpostbbi.com/event/happy-hour-30/
ATTACH;FMTTYPE=image/jpeg:https://theoutpostbbi.com/wp-content/uploads/2025/06/BURGER-5.jpg
END:VEVENT
BEGIN:VEVENT
DTSTART;TZID=America/New_York:20250628T153000
DTEND;TZID=America/New_York:20250628T173000
DTSTAMP:20260426T000814
CREATED:20250601T192531Z
LAST-MODIFIED:20250602T160402Z
UID:8605-1751124600-1751131800@theoutpostbbi.com
SUMMARY:Happy Hour
DESCRIPTION:
URL:https://theoutpostbbi.com/event/happy-hour-29/
ATTACH;FMTTYPE=image/jpeg:https://theoutpostbbi.com/wp-content/uploads/2025/06/BURGER-5.jpg
END:VEVENT
BEGIN:VEVENT
DTSTART;TZID=America/New_York:20250627T153000
DTEND;TZID=America/New_York:20250627T173000
DTSTAMP:20260426T000814
CREATED:20250601T192531Z
LAST-MODIFIED:20250602T160400Z
UID:8604-1751038200-1751045400@theoutpostbbi.com
SUMMARY:Happy Hour
DESCRIPTION:
URL:https://theoutpostbbi.com/event/happy-hour-28/
ATTACH;FMTTYPE=image/jpeg:https://theoutpostbbi.com/wp-content/uploads/2025/06/BURGER-5.jpg
END:VEVENT
BEGIN:VEVENT
DTSTART;VALUE=DATE:20250627
DTEND;VALUE=DATE:20250628
DTSTAMP:20260426T000814
CREATED:20250602T142658Z
LAST-MODIFIED:20250602T154353Z
UID:8772-1750982400-1751068799@theoutpostbbi.com
SUMMARY:$16 Fish & Chips
DESCRIPTION:
URL:https://theoutpostbbi.com/event/16-fish-chips-4/
ATTACH;FMTTYPE=image/jpeg:https://theoutpostbbi.com/wp-content/uploads/2025/06/BURGER-3.jpg
END:VEVENT
BEGIN:VEVENT
DTSTART;TZID=America/New_York:20250626T153000
DTEND;TZID=America/New_York:20250626T173000
DTSTAMP:20260426T000814
CREATED:20250601T192531Z
LAST-MODIFIED:20250602T160359Z
UID:8603-1750951800-1750959000@theoutpostbbi.com
SUMMARY:Happy Hour
DESCRIPTION:
URL:https://theoutpostbbi.com/event/happy-hour-27/
ATTACH;FMTTYPE=image/jpeg:https://theoutpostbbi.com/wp-content/uploads/2025/06/BURGER-5.jpg
END:VEVENT
BEGIN:VEVENT
DTSTART;VALUE=DATE:20250626
DTEND;VALUE=DATE:20250627
DTSTAMP:20260426T000814
CREATED:20250602T142500Z
LAST-MODIFIED:20250602T153426Z
UID:8745-1750896000-1750982399@theoutpostbbi.com
SUMMARY:$12 Burgers
DESCRIPTION:
URL:https://theoutpostbbi.com/event/12-burgers-4/
ATTACH;FMTTYPE=image/jpeg:https://theoutpostbbi.com/wp-content/uploads/2025/06/BURGER-2.jpg
END:VEVENT
BEGIN:VEVENT
DTSTART;TZID=America/New_York:20250625T153000
DTEND;TZID=America/New_York:20250625T173000
DTSTAMP:20260426T000814
CREATED:20250601T192531Z
LAST-MODIFIED:20250602T160358Z
UID:8602-1750865400-1750872600@theoutpostbbi.com
SUMMARY:Happy Hour
DESCRIPTION:
URL:https://theoutpostbbi.com/event/happy-hour-26/
ATTACH;FMTTYPE=image/jpeg:https://theoutpostbbi.com/wp-content/uploads/2025/06/BURGER-5.jpg
END:VEVENT
BEGIN:VEVENT
DTSTART;VALUE=DATE:20250625
DTEND;VALUE=DATE:20250626
DTSTAMP:20260426T000814
CREATED:20250602T142307Z
LAST-MODIFIED:20250602T152944Z
UID:8721-1750809600-1750895999@theoutpostbbi.com
SUMMARY:Wing Wednesday
DESCRIPTION:
URL:https://theoutpostbbi.com/event/wing-wednesday-4/
ATTACH;FMTTYPE=image/jpeg:https://theoutpostbbi.com/wp-content/uploads/2025/06/BURGER.jpg
END:VEVENT
BEGIN:VEVENT
DTSTART;TZID=America/New_York:20250624T153000
DTEND;TZID=America/New_York:20250624T173000
DTSTAMP:20260426T000814
CREATED:20250601T192531Z
LAST-MODIFIED:20250602T160357Z
UID:8601-1750779000-1750786200@theoutpostbbi.com
SUMMARY:Happy Hour
DESCRIPTION:
URL:https://theoutpostbbi.com/event/happy-hour-25/
ATTACH;FMTTYPE=image/jpeg:https://theoutpostbbi.com/wp-content/uploads/2025/06/BURGER-5.jpg
END:VEVENT
BEGIN:VEVENT
DTSTART;VALUE=DATE:20250624
DTEND;VALUE=DATE:20250625
DTSTAMP:20260426T000814
CREATED:20250601T193524Z
LAST-MODIFIED:20250602T154804Z
UID:8698-1750723200-1750809599@theoutpostbbi.com
SUMMARY:Taco Tuesday
DESCRIPTION:
URL:https://theoutpostbbi.com/event/taco-tuesday-26/
ATTACH;FMTTYPE=image/jpeg:https://theoutpostbbi.com/wp-content/uploads/2025/06/BURGER-4.jpg
END:VEVENT
BEGIN:VEVENT
DTSTART;TZID=America/New_York:20250623T153000
DTEND;TZID=America/New_York:20250623T173000
DTSTAMP:20260426T000814
CREATED:20250601T191909Z
LAST-MODIFIED:20250602T160347Z
UID:8577-1750692600-1750699800@theoutpostbbi.com
SUMMARY:Happy Hour
DESCRIPTION:
URL:https://theoutpostbbi.com/event/happy-hour-3/
CATEGORIES:Family Fun
ATTACH;FMTTYPE=image/jpeg:https://theoutpostbbi.com/wp-content/uploads/2025/06/BURGER-5.jpg
END:VEVENT
BEGIN:VEVENT
DTSTART;VALUE=DATE:20250623
DTEND;VALUE=DATE:20250624
DTSTAMP:20260426T000814
CREATED:20250602T155310Z
LAST-MODIFIED:20250602T155310Z
UID:8982-1750636800-1750723199@theoutpostbbi.com
SUMMARY:Hot Dog Monday
DESCRIPTION:
URL:https://theoutpostbbi.com/event/hot-dog-monday/
END:VEVENT
BEGIN:VEVENT
DTSTART;TZID=America/New_York:20250622T153000
DTEND;TZID=America/New_York:20250622T173000
DTSTAMP:20260426T000814
CREATED:20250601T192415Z
LAST-MODIFIED:20250602T160345Z
UID:8600-1750606200-1750613400@theoutpostbbi.com
SUMMARY:Happy Hour
DESCRIPTION:
URL:https://theoutpostbbi.com/event/happy-hour-24/
ATTACH;FMTTYPE=image/jpeg:https://theoutpostbbi.com/wp-content/uploads/2025/06/BURGER-5.jpg
END:VEVENT
BEGIN:VEVENT
DTSTART;TZID=America/New_York:20250621T153000
DTEND;TZID=America/New_York:20250621T173000
DTSTAMP:20260426T000814
CREATED:20250601T192415Z
LAST-MODIFIED:20250602T160344Z
UID:8599-1750519800-1750527000@theoutpostbbi.com
SUMMARY:Happy Hour
DESCRIPTION:
URL:https://theoutpostbbi.com/event/happy-hour-23/
ATTACH;FMTTYPE=image/jpeg:https://theoutpostbbi.com/wp-content/uploads/2025/06/BURGER-5.jpg
END:VEVENT
BEGIN:VEVENT
DTSTART;TZID=UTC:20250621T120000
DTEND;TZID=UTC:20250621T160000
DTSTAMP:20260426T000814
CREATED:20250602T183109Z
LAST-MODIFIED:20250602T183109Z
UID:9249-1750507200-1750521600@theoutpostbbi.com
SUMMARY:Summer Party!
DESCRIPTION:
URL:https://theoutpostbbi.com/event/summer-party/
END:VEVENT
BEGIN:VEVENT
DTSTART;TZID=UTC:20250620T180000
DTEND;TZID=UTC:20250620T220000
DTSTAMP:20260426T000814
CREATED:20250520T121819Z
LAST-MODIFIED:20250520T121819Z
UID:8394-1750442400-1750456800@theoutpostbbi.com
SUMMARY:Kathy's Birthday Bash!
DESCRIPTION:
URL:https://theoutpostbbi.com/event/kathys-birthday-bash/
END:VEVENT
BEGIN:VEVENT
DTSTART;TZID=America/New_York:20250620T153000
DTEND;TZID=America/New_York:20250620T173000
DTSTAMP:20260426T000814
CREATED:20250601T192415Z
LAST-MODIFIED:20250602T160343Z
UID:8598-1750433400-1750440600@theoutpostbbi.com
SUMMARY:Happy Hour
DESCRIPTION:
URL:https://theoutpostbbi.com/event/happy-hour-22/
ATTACH;FMTTYPE=image/jpeg:https://theoutpostbbi.com/wp-content/uploads/2025/06/BURGER-5.jpg
END:VEVENT
END:VCALENDAR