BEGIN:VCALENDAR
VERSION:2.0
PRODID:-//The Outpost BBI - ECPv6.11.2.1//NONSGML v1.0//EN
CALSCALE:GREGORIAN
METHOD:PUBLISH
X-WR-CALNAME:The Outpost BBI
X-ORIGINAL-URL:https://theoutpostbbi.com
X-WR-CALDESC:Events for The Outpost BBI
REFRESH-INTERVAL;VALUE=DURATION:PT1H
X-Robots-Tag:noindex
X-PUBLISHED-TTL:PT1H
BEGIN:VTIMEZONE
TZID:America/New_York
BEGIN:DAYLIGHT
TZOFFSETFROM:-0500
TZOFFSETTO:-0400
TZNAME:EDT
DTSTART:20250309T070000
END:DAYLIGHT
BEGIN:STANDARD
TZOFFSETFROM:-0400
TZOFFSETTO:-0500
TZNAME:EST
DTSTART:20251102T060000
END:STANDARD
END:VTIMEZONE
BEGIN:VTIMEZONE
TZID:UTC
BEGIN:STANDARD
TZOFFSETFROM:+0000
TZOFFSETTO:+0000
TZNAME:UTC
DTSTART:20250101T000000
END:STANDARD
END:VTIMEZONE
BEGIN:VEVENT
DTSTART;VALUE=DATE:20250725
DTEND;VALUE=DATE:20250726
DTSTAMP:20260425T191137
CREATED:20250602T142702Z
LAST-MODIFIED:20250602T154400Z
UID:8776-1753401600-1753487999@theoutpostbbi.com
SUMMARY:$16 Fish & Chips
DESCRIPTION:
URL:https://theoutpostbbi.com/event/16-fish-chips-8/
ATTACH;FMTTYPE=image/jpeg:https://theoutpostbbi.com/wp-content/uploads/2025/06/BURGER-3.jpg
END:VEVENT
BEGIN:VEVENT
DTSTART;TZID=America/New_York:20250724T153000
DTEND;TZID=America/New_York:20250724T173000
DTSTAMP:20260425T191137
CREATED:20250601T192919Z
LAST-MODIFIED:20250602T160527Z
UID:8630-1753371000-1753378200@theoutpostbbi.com
SUMMARY:Happy Hour
DESCRIPTION:
URL:https://theoutpostbbi.com/event/happy-hour-54/
ATTACH;FMTTYPE=image/jpeg:https://theoutpostbbi.com/wp-content/uploads/2025/06/BURGER-5.jpg
END:VEVENT
BEGIN:VEVENT
DTSTART;VALUE=DATE:20250724
DTEND;VALUE=DATE:20250725
DTSTAMP:20260425T191137
CREATED:20250602T142504Z
LAST-MODIFIED:20250602T153433Z
UID:8749-1753315200-1753401599@theoutpostbbi.com
SUMMARY:$12 Burgers
DESCRIPTION:
URL:https://theoutpostbbi.com/event/12-burgers-8/
ATTACH;FMTTYPE=image/jpeg:https://theoutpostbbi.com/wp-content/uploads/2025/06/BURGER-2.jpg
END:VEVENT
BEGIN:VEVENT
DTSTART;TZID=America/New_York:20250723T153000
DTEND;TZID=America/New_York:20250723T173000
DTSTAMP:20260425T191137
CREATED:20250601T192919Z
LAST-MODIFIED:20250602T160517Z
UID:8629-1753284600-1753291800@theoutpostbbi.com
SUMMARY:Happy Hour
DESCRIPTION:
URL:https://theoutpostbbi.com/event/happy-hour-53/
ATTACH;FMTTYPE=image/jpeg:https://theoutpostbbi.com/wp-content/uploads/2025/06/BURGER-5.jpg
END:VEVENT
BEGIN:VEVENT
DTSTART;TZID=UTC:20250723T133000
DTEND;TZID=UTC:20250723T153000
DTSTAMP:20260425T191137
CREATED:20250602T184009Z
LAST-MODIFIED:20250602T191709Z
UID:9255-1753277400-1753284600@theoutpostbbi.com
SUMMARY:Kids Karaoke!
DESCRIPTION:Kids 17 and under – come on up and take a swing at some Karaoke!\nWe will also have Pizza by the Slice and Popcorn available!\nAll singers will earn a Free Kids Scoop!
URL:https://theoutpostbbi.com/event/kids-karaoke-2/
END:VEVENT
BEGIN:VEVENT
DTSTART;VALUE=DATE:20250723
DTEND;VALUE=DATE:20250724
DTSTAMP:20260425T191137
CREATED:20250602T142311Z
LAST-MODIFIED:20250602T152951Z
UID:8725-1753228800-1753315199@theoutpostbbi.com
SUMMARY:Wing Wednesday
DESCRIPTION:
URL:https://theoutpostbbi.com/event/wing-wednesday-8/
ATTACH;FMTTYPE=image/jpeg:https://theoutpostbbi.com/wp-content/uploads/2025/06/BURGER.jpg
END:VEVENT
BEGIN:VEVENT
DTSTART;TZID=America/New_York:20250722T153000
DTEND;TZID=America/New_York:20250722T173000
DTSTAMP:20260425T191137
CREATED:20250601T192918Z
LAST-MODIFIED:20250602T160515Z
UID:8628-1753198200-1753205400@theoutpostbbi.com
SUMMARY:Happy Hour
DESCRIPTION:
URL:https://theoutpostbbi.com/event/happy-hour-52/
ATTACH;FMTTYPE=image/jpeg:https://theoutpostbbi.com/wp-content/uploads/2025/06/BURGER-5.jpg
END:VEVENT
BEGIN:VEVENT
DTSTART;VALUE=DATE:20250722
DTEND;VALUE=DATE:20250723
DTSTAMP:20260425T191137
CREATED:20250601T193527Z
LAST-MODIFIED:20250602T154823Z
UID:8702-1753142400-1753228799@theoutpostbbi.com
SUMMARY:Taco Tuesday
DESCRIPTION:
URL:https://theoutpostbbi.com/event/taco-tuesday-30/
ATTACH;FMTTYPE=image/jpeg:https://theoutpostbbi.com/wp-content/uploads/2025/06/BURGER-4.jpg
END:VEVENT
BEGIN:VEVENT
DTSTART;TZID=America/New_York:20250721T153000
DTEND;TZID=America/New_York:20250721T173000
DTSTAMP:20260425T191137
CREATED:20250601T192918Z
LAST-MODIFIED:20250602T160514Z
UID:8627-1753111800-1753119000@theoutpostbbi.com
SUMMARY:Happy Hour
DESCRIPTION:
URL:https://theoutpostbbi.com/event/happy-hour-51/
ATTACH;FMTTYPE=image/jpeg:https://theoutpostbbi.com/wp-content/uploads/2025/06/BURGER-5.jpg
END:VEVENT
BEGIN:VEVENT
DTSTART;VALUE=DATE:20250721
DTEND;VALUE=DATE:20250722
DTSTAMP:20260425T191137
CREATED:20250602T155311Z
LAST-MODIFIED:20250602T155311Z
UID:8986-1753056000-1753142399@theoutpostbbi.com
SUMMARY:Hot Dog Monday
DESCRIPTION:
URL:https://theoutpostbbi.com/event/hot-dog-monday-5/
END:VEVENT
BEGIN:VEVENT
DTSTART;TZID=America/New_York:20250720T153000
DTEND;TZID=America/New_York:20250720T173000
DTSTAMP:20260425T191137
CREATED:20250601T192918Z
LAST-MODIFIED:20250602T160513Z
UID:8626-1753025400-1753032600@theoutpostbbi.com
SUMMARY:Happy Hour
DESCRIPTION:
URL:https://theoutpostbbi.com/event/happy-hour-50/
ATTACH;FMTTYPE=image/jpeg:https://theoutpostbbi.com/wp-content/uploads/2025/06/BURGER-5.jpg
END:VEVENT
BEGIN:VEVENT
DTSTART;TZID=America/New_York:20250719T153000
DTEND;TZID=America/New_York:20250719T173000
DTSTAMP:20260425T191137
CREATED:20250601T192757Z
LAST-MODIFIED:20250602T160512Z
UID:8625-1752939000-1752946200@theoutpostbbi.com
SUMMARY:Happy Hour
DESCRIPTION:
URL:https://theoutpostbbi.com/event/happy-hour-49/
ATTACH;FMTTYPE=image/jpeg:https://theoutpostbbi.com/wp-content/uploads/2025/06/BURGER-5.jpg
END:VEVENT
BEGIN:VEVENT
DTSTART;TZID=UTC:20250719T110000
DTEND;TZID=UTC:20250719T120000
DTSTAMP:20260425T191137
CREATED:20250708T131354Z
LAST-MODIFIED:20250708T131354Z
UID:9424-1752922800-1752926400@theoutpostbbi.com
SUMMARY:Coffee Hour with Rep. Parker Fairbairn
DESCRIPTION:Join Michigan State Representative Parker Fairbairn in a coffee hour to chat about issues you care about.
URL:https://theoutpostbbi.com/event/coffee-hour-with-rep-parker-fairbairn/
END:VEVENT
BEGIN:VEVENT
DTSTART;TZID=America/New_York:20250718T153000
DTEND;TZID=America/New_York:20250718T173000
DTSTAMP:20260425T191137
CREATED:20250601T192757Z
LAST-MODIFIED:20250602T160502Z
UID:8624-1752852600-1752859800@theoutpostbbi.com
SUMMARY:Happy Hour
DESCRIPTION:
URL:https://theoutpostbbi.com/event/happy-hour-48/
ATTACH;FMTTYPE=image/jpeg:https://theoutpostbbi.com/wp-content/uploads/2025/06/BURGER-5.jpg
END:VEVENT
BEGIN:VEVENT
DTSTART;VALUE=DATE:20250718
DTEND;VALUE=DATE:20250719
DTSTAMP:20260425T191137
CREATED:20250602T142701Z
LAST-MODIFIED:20250602T154359Z
UID:8775-1752796800-1752883199@theoutpostbbi.com
SUMMARY:$16 Fish & Chips
DESCRIPTION:
URL:https://theoutpostbbi.com/event/16-fish-chips-7/
ATTACH;FMTTYPE=image/jpeg:https://theoutpostbbi.com/wp-content/uploads/2025/06/BURGER-3.jpg
END:VEVENT
BEGIN:VEVENT
DTSTART;TZID=America/New_York:20250717T153000
DTEND;TZID=America/New_York:20250717T173000
DTSTAMP:20260425T191137
CREATED:20250601T192757Z
LAST-MODIFIED:20250602T160501Z
UID:8623-1752766200-1752773400@theoutpostbbi.com
SUMMARY:Happy Hour
DESCRIPTION:
URL:https://theoutpostbbi.com/event/happy-hour-47/
ATTACH;FMTTYPE=image/jpeg:https://theoutpostbbi.com/wp-content/uploads/2025/06/BURGER-5.jpg
END:VEVENT
BEGIN:VEVENT
DTSTART;VALUE=DATE:20250717
DTEND;VALUE=DATE:20250718
DTSTAMP:20260425T191137
CREATED:20250602T142504Z
LAST-MODIFIED:20250602T153431Z
UID:8748-1752710400-1752796799@theoutpostbbi.com
SUMMARY:$12 Burgers
DESCRIPTION:
URL:https://theoutpostbbi.com/event/12-burgers-7/
ATTACH;FMTTYPE=image/jpeg:https://theoutpostbbi.com/wp-content/uploads/2025/06/BURGER-2.jpg
END:VEVENT
BEGIN:VEVENT
DTSTART;TZID=America/New_York:20250716T153000
DTEND;TZID=America/New_York:20250716T173000
DTSTAMP:20260425T191137
CREATED:20250601T192756Z
LAST-MODIFIED:20250602T160459Z
UID:8622-1752679800-1752687000@theoutpostbbi.com
SUMMARY:Happy Hour
DESCRIPTION:
URL:https://theoutpostbbi.com/event/happy-hour-46/
ATTACH;FMTTYPE=image/jpeg:https://theoutpostbbi.com/wp-content/uploads/2025/06/BURGER-5.jpg
END:VEVENT
BEGIN:VEVENT
DTSTART;VALUE=DATE:20250716
DTEND;VALUE=DATE:20250717
DTSTAMP:20260425T191137
CREATED:20250602T142311Z
LAST-MODIFIED:20250602T152950Z
UID:8724-1752624000-1752710399@theoutpostbbi.com
SUMMARY:Wing Wednesday
DESCRIPTION:
URL:https://theoutpostbbi.com/event/wing-wednesday-7/
ATTACH;FMTTYPE=image/jpeg:https://theoutpostbbi.com/wp-content/uploads/2025/06/BURGER.jpg
END:VEVENT
BEGIN:VEVENT
DTSTART;TZID=America/New_York:20250715T153000
DTEND;TZID=America/New_York:20250715T173000
DTSTAMP:20260425T191137
CREATED:20250601T192756Z
LAST-MODIFIED:20250602T160458Z
UID:8621-1752593400-1752600600@theoutpostbbi.com
SUMMARY:Happy Hour
DESCRIPTION:
URL:https://theoutpostbbi.com/event/happy-hour-45/
ATTACH;FMTTYPE=image/jpeg:https://theoutpostbbi.com/wp-content/uploads/2025/06/BURGER-5.jpg
END:VEVENT
BEGIN:VEVENT
DTSTART;VALUE=DATE:20250715
DTEND;VALUE=DATE:20250716
DTSTAMP:20260425T191137
CREATED:20250601T193527Z
LAST-MODIFIED:20250602T154822Z
UID:8701-1752537600-1752623999@theoutpostbbi.com
SUMMARY:Taco Tuesday
DESCRIPTION:
URL:https://theoutpostbbi.com/event/taco-tuesday-29/
ATTACH;FMTTYPE=image/jpeg:https://theoutpostbbi.com/wp-content/uploads/2025/06/BURGER-4.jpg
END:VEVENT
BEGIN:VEVENT
DTSTART;TZID=America/New_York:20250714T153000
DTEND;TZID=America/New_York:20250714T173000
DTSTAMP:20260425T191137
CREATED:20250601T192556Z
LAST-MODIFIED:20250602T160457Z
UID:8620-1752507000-1752514200@theoutpostbbi.com
SUMMARY:Happy Hour
DESCRIPTION:
URL:https://theoutpostbbi.com/event/happy-hour-44/
ATTACH;FMTTYPE=image/jpeg:https://theoutpostbbi.com/wp-content/uploads/2025/06/BURGER-5.jpg
END:VEVENT
BEGIN:VEVENT
DTSTART;VALUE=DATE:20250714
DTEND;VALUE=DATE:20250715
DTSTAMP:20260425T191137
CREATED:20250602T155311Z
LAST-MODIFIED:20250602T155311Z
UID:8985-1752451200-1752537599@theoutpostbbi.com
SUMMARY:Hot Dog Monday
DESCRIPTION:
URL:https://theoutpostbbi.com/event/hot-dog-monday-4/
END:VEVENT
BEGIN:VEVENT
DTSTART;TZID=America/New_York:20250713T153000
DTEND;TZID=America/New_York:20250713T173000
DTSTAMP:20260425T191137
CREATED:20250601T192556Z
LAST-MODIFIED:20250602T160447Z
UID:8619-1752420600-1752427800@theoutpostbbi.com
SUMMARY:Happy Hour
DESCRIPTION:
URL:https://theoutpostbbi.com/event/happy-hour-43/
ATTACH;FMTTYPE=image/jpeg:https://theoutpostbbi.com/wp-content/uploads/2025/06/BURGER-5.jpg
END:VEVENT
BEGIN:VEVENT
DTSTART;TZID=America/New_York:20250712T153000
DTEND;TZID=America/New_York:20250712T173000
DTSTAMP:20260425T191137
CREATED:20250601T192556Z
LAST-MODIFIED:20250602T160446Z
UID:8618-1752334200-1752341400@theoutpostbbi.com
SUMMARY:Happy Hour
DESCRIPTION:
URL:https://theoutpostbbi.com/event/happy-hour-42/
ATTACH;FMTTYPE=image/jpeg:https://theoutpostbbi.com/wp-content/uploads/2025/06/BURGER-5.jpg
END:VEVENT
BEGIN:VEVENT
DTSTART;TZID=America/New_York:20250711T153000
DTEND;TZID=America/New_York:20250711T173000
DTSTAMP:20260425T191137
CREATED:20250601T192556Z
LAST-MODIFIED:20250602T160444Z
UID:8617-1752247800-1752255000@theoutpostbbi.com
SUMMARY:Happy Hour
DESCRIPTION:
URL:https://theoutpostbbi.com/event/happy-hour-41/
ATTACH;FMTTYPE=image/jpeg:https://theoutpostbbi.com/wp-content/uploads/2025/06/BURGER-5.jpg
END:VEVENT
BEGIN:VEVENT
DTSTART;VALUE=DATE:20250711
DTEND;VALUE=DATE:20250712
DTSTAMP:20260425T191137
CREATED:20250602T142701Z
LAST-MODIFIED:20250602T154358Z
UID:8774-1752192000-1752278399@theoutpostbbi.com
SUMMARY:$16 Fish & Chips
DESCRIPTION:
URL:https://theoutpostbbi.com/event/16-fish-chips-6/
ATTACH;FMTTYPE=image/jpeg:https://theoutpostbbi.com/wp-content/uploads/2025/06/BURGER-3.jpg
END:VEVENT
BEGIN:VEVENT
DTSTART;TZID=America/New_York:20250710T153000
DTEND;TZID=America/New_York:20250710T173000
DTSTAMP:20260425T191137
CREATED:20250601T192555Z
LAST-MODIFIED:20250602T160443Z
UID:8616-1752161400-1752168600@theoutpostbbi.com
SUMMARY:Happy Hour
DESCRIPTION:
URL:https://theoutpostbbi.com/event/happy-hour-40/
ATTACH;FMTTYPE=image/jpeg:https://theoutpostbbi.com/wp-content/uploads/2025/06/BURGER-5.jpg
END:VEVENT
BEGIN:VEVENT
DTSTART;VALUE=DATE:20250710
DTEND;VALUE=DATE:20250711
DTSTAMP:20260425T191137
CREATED:20250602T142503Z
LAST-MODIFIED:20250602T153430Z
UID:8747-1752105600-1752191999@theoutpostbbi.com
SUMMARY:$12 Burgers
DESCRIPTION:
URL:https://theoutpostbbi.com/event/12-burgers-6/
ATTACH;FMTTYPE=image/jpeg:https://theoutpostbbi.com/wp-content/uploads/2025/06/BURGER-2.jpg
END:VEVENT
BEGIN:VEVENT
DTSTART;TZID=America/New_York:20250709T153000
DTEND;TZID=America/New_York:20250709T173000
DTSTAMP:20260425T191137
CREATED:20250601T192548Z
LAST-MODIFIED:20250602T160442Z
UID:8615-1752075000-1752082200@theoutpostbbi.com
SUMMARY:Happy Hour
DESCRIPTION:
URL:https://theoutpostbbi.com/event/happy-hour-39/
ATTACH;FMTTYPE=image/jpeg:https://theoutpostbbi.com/wp-content/uploads/2025/06/BURGER-5.jpg
END:VEVENT
END:VCALENDAR